BEGIN:VCALENDAR
VERSION:2.0
PRODID:-//MatterhornNepal-GuideSource - ECPv6.14.0//NONSGML v1.0//EN
CALSCALE:GREGORIAN
METHOD:PUBLISH
X-WR-CALNAME:MatterhornNepal-GuideSource
X-ORIGINAL-URL:https://guidesource.com
X-WR-CALDESC:Events for MatterhornNepal-GuideSource
REFRESH-INTERVAL;VALUE=DURATION:PT1H
X-Robots-Tag:noindex
X-PUBLISHED-TTL:PT1H
BEGIN:VTIMEZONE
TZID:Europe/Zurich
BEGIN:DAYLIGHT
TZOFFSETFROM:+0100
TZOFFSETTO:+0200
TZNAME:CEST
DTSTART:20230326T010000
END:DAYLIGHT
BEGIN:STANDARD
TZOFFSETFROM:+0200
TZOFFSETTO:+0100
TZNAME:CET
DTSTART:20231029T010000
END:STANDARD
BEGIN:DAYLIGHT
TZOFFSETFROM:+0100
TZOFFSETTO:+0200
TZNAME:CEST
DTSTART:20240331T010000
END:DAYLIGHT
BEGIN:STANDARD
TZOFFSETFROM:+0200
TZOFFSETTO:+0100
TZNAME:CET
DTSTART:20241027T010000
END:STANDARD
END:VTIMEZONE
BEGIN:VEVENT
DTSTART;VALUE=DATE:20240106
DTEND;VALUE=DATE:20240108
DTSTAMP:20260419T161012
CREATED:20231214T063024Z
LAST-MODIFIED:20240102T151531Z
UID:2166-1704499200-1704671999@guidesource.com
SUMMARY:Avalanche Course - FULL
DESCRIPTION:
URL:https://guidesource.com/event/avalanche-course-9/
END:VEVENT
BEGIN:VEVENT
DTSTART;VALUE=DATE:20240106
DTEND;VALUE=DATE:20240108
DTSTAMP:20260419T161012
CREATED:20231021T095659Z
LAST-MODIFIED:20231021T095659Z
UID:2144-1704499200-1704671999@guidesource.com
SUMMARY:2-day Avalanche Course
DESCRIPTION:
URL:https://guidesource.com/event/2-day-avalanche-course/
END:VEVENT
BEGIN:VEVENT
DTSTART;VALUE=DATE:20231230
DTEND;VALUE=DATE:20240101
DTSTAMP:20260419T161012
CREATED:20231214T062939Z
LAST-MODIFIED:20231214T062939Z
UID:2164-1703894400-1704067199@guidesource.com
SUMMARY:Avalanche Course - FULL
DESCRIPTION:
URL:https://guidesource.com/event/avalanche-course-full-3/
END:VEVENT
BEGIN:VEVENT
DTSTART;VALUE=DATE:20231112
DTEND;VALUE=DATE:20231113
DTSTAMP:20260419T161012
CREATED:20231013T094226Z
LAST-MODIFIED:20231013T094226Z
UID:2121-1699747200-1699833599@guidesource.com
SUMMARY:Glacier Trek & Training - FULL
DESCRIPTION:
URL:https://guidesource.com/event/glacier-trek-training-full-7/
END:VEVENT
BEGIN:VEVENT
DTSTART;VALUE=DATE:20231111
DTEND;VALUE=DATE:20231113
DTSTAMP:20260419T161012
CREATED:20231020T123324Z
LAST-MODIFIED:20231020T123324Z
UID:2141-1699660800-1699833599@guidesource.com
SUMMARY:Shinrin-Yoku Hike- FULL
DESCRIPTION:
URL:https://guidesource.com/event/shinrin-yoku-hike-full/
END:VEVENT
BEGIN:VEVENT
DTSTART;VALUE=DATE:20231111
DTEND;VALUE=DATE:20231112
DTSTAMP:20260419T161012
CREATED:20231013T094201Z
LAST-MODIFIED:20231013T094201Z
UID:2119-1699660800-1699747199@guidesource.com
SUMMARY:Glacier Trek & Training -FULL
DESCRIPTION:
URL:https://guidesource.com/event/glacier-trek-training-full-6/
END:VEVENT
BEGIN:VEVENT
DTSTART;VALUE=DATE:20231105
DTEND;VALUE=DATE:20231106
DTSTAMP:20260419T161012
CREATED:20231013T094124Z
LAST-MODIFIED:20231013T094124Z
UID:2117-1699142400-1699228799@guidesource.com
SUMMARY:Glacier Trek & Training
DESCRIPTION:
URL:https://guidesource.com/event/glacier-trek-training-31/
END:VEVENT
BEGIN:VEVENT
DTSTART;VALUE=DATE:20231104
DTEND;VALUE=DATE:20231105
DTSTAMP:20260419T161012
CREATED:20231013T093537Z
LAST-MODIFIED:20231013T093810Z
UID:2102-1699056000-1699142399@guidesource.com
SUMMARY:Self-Rescue Rock Climbing
DESCRIPTION:
URL:https://guidesource.com/event/rock-climbing-35/
END:VEVENT
BEGIN:VEVENT
DTSTART;VALUE=DATE:20231101
DTEND;VALUE=DATE:20231104
DTSTAMP:20260419T161012
CREATED:20231020T123234Z
LAST-MODIFIED:20231020T123234Z
UID:2139-1698796800-1699055999@guidesource.com
SUMMARY:Shinrin-Yoku (Nature Therapy) Hike
DESCRIPTION:
URL:https://guidesource.com/event/shinrin-yoku-nature-therapy-hike-2/
END:VEVENT
BEGIN:VEVENT
DTSTART;VALUE=DATE:20231029
DTEND;VALUE=DATE:20231030
DTSTAMP:20260419T161012
CREATED:20231013T094034Z
LAST-MODIFIED:20231013T094034Z
UID:2113-1698537600-1698623999@guidesource.com
SUMMARY:Glacier Trek & Training
DESCRIPTION:
URL:https://guidesource.com/event/glacier-trek-training-29/
END:VEVENT
BEGIN:VEVENT
DTSTART;VALUE=DATE:20231028
DTEND;VALUE=DATE:20231029
DTSTAMP:20260419T161012
CREATED:20231013T093936Z
LAST-MODIFIED:20231013T093937Z
UID:2109-1698451200-1698537599@guidesource.com
SUMMARY:Rock Climbing
DESCRIPTION:
URL:https://guidesource.com/event/rock-climbing-37/
END:VEVENT
BEGIN:VEVENT
DTSTART;VALUE=DATE:20231026
DTEND;VALUE=DATE:20231029
DTSTAMP:20260419T161012
CREATED:20231020T123146Z
LAST-MODIFIED:20231020T123146Z
UID:2137-1698278400-1698537599@guidesource.com
SUMMARY:Shinrin-Yoku (Nature Therapy) Hike
DESCRIPTION:
URL:https://guidesource.com/event/shinrin-yoku-nature-therapy-hike/
END:VEVENT
BEGIN:VEVENT
DTSTART;VALUE=DATE:20231022
DTEND;VALUE=DATE:20231023
DTSTAMP:20260419T161012
CREATED:20231013T094059Z
LAST-MODIFIED:20231020T102520Z
UID:2115-1697932800-1698019199@guidesource.com
SUMMARY:Rock Climbing - FULL
DESCRIPTION:
URL:https://guidesource.com/event/glacier-trek-training-30/
END:VEVENT
BEGIN:VEVENT
DTSTART;VALUE=DATE:20231022
DTEND;VALUE=DATE:20231023
DTSTAMP:20260419T161012
CREATED:20230924T161944Z
LAST-MODIFIED:20231020T102548Z
UID:2081-1697932800-1698019199@guidesource.com
SUMMARY:Glacier Trek & Training - FULL
DESCRIPTION:
URL:https://guidesource.com/event/glacier-trek-training-21/
END:VEVENT
BEGIN:VEVENT
DTSTART;VALUE=DATE:20231021
DTEND;VALUE=DATE:20231023
DTSTAMP:20260419T161012
CREATED:20231020T123055Z
LAST-MODIFIED:20231020T123055Z
UID:2135-1697846400-1698019199@guidesource.com
SUMMARY:Shinrin-Yoku Day Hike- FULL
DESCRIPTION:
URL:https://guidesource.com/event/shinrin-yoku-day-hike-full/
END:VEVENT
BEGIN:VEVENT
DTSTART;VALUE=DATE:20231021
DTEND;VALUE=DATE:20231023
DTSTAMP:20260419T161012
CREATED:20231020T102820Z
LAST-MODIFIED:20231020T102820Z
UID:2131-1697846400-1698019199@guidesource.com
SUMMARY:Glacier Rescue - FULL
DESCRIPTION:
URL:https://guidesource.com/event/glacier-rescue-full/
END:VEVENT
BEGIN:VEVENT
DTSTART;VALUE=DATE:20231021
DTEND;VALUE=DATE:20231022
DTSTAMP:20260419T161012
CREATED:20231013T094010Z
LAST-MODIFIED:20231020T102453Z
UID:2111-1697846400-1697932799@guidesource.com
SUMMARY:Glacier Trek & Training - FULL
DESCRIPTION:
URL:https://guidesource.com/event/glacier-trek-training-28/
END:VEVENT
BEGIN:VEVENT
DTSTART;VALUE=DATE:20231021
DTEND;VALUE=DATE:20231022
DTSTAMP:20260419T161012
CREATED:20231013T093908Z
LAST-MODIFIED:20231020T102614Z
UID:2107-1697846400-1697932799@guidesource.com
SUMMARY:Rock Climbing - FULL
DESCRIPTION:
URL:https://guidesource.com/event/rock-climbing-36/
END:VEVENT
BEGIN:VEVENT
DTSTART;VALUE=DATE:20231015
DTEND;VALUE=DATE:20231016
DTSTAMP:20260419T161012
CREATED:20230924T161712Z
LAST-MODIFIED:20231020T102647Z
UID:2073-1697328000-1697414399@guidesource.com
SUMMARY:Multi-pitch Rock Climbing - FULL
DESCRIPTION:
URL:https://guidesource.com/event/multi-pitch-rock-climbing-22/
END:VEVENT
BEGIN:VEVENT
DTSTART;VALUE=DATE:20231014
DTEND;VALUE=DATE:20231015
DTSTAMP:20260419T161012
CREATED:20230924T161650Z
LAST-MODIFIED:20231020T102712Z
UID:2071-1697241600-1697327999@guidesource.com
SUMMARY:Rock Climbing - FULL
DESCRIPTION:
URL:https://guidesource.com/event/rock-climbing-32/
END:VEVENT
BEGIN:VEVENT
DTSTART;VALUE=DATE:20231008
DTEND;VALUE=DATE:20231009
DTSTAMP:20260419T161012
CREATED:20230924T161919Z
LAST-MODIFIED:20231020T102736Z
UID:2079-1696723200-1696809599@guidesource.com
SUMMARY:Glacier Trek & Training - FULL
DESCRIPTION:
URL:https://guidesource.com/event/glacier-trek-training-20/
END:VEVENT
BEGIN:VEVENT
DTSTART;VALUE=DATE:20231008
DTEND;VALUE=DATE:20231009
DTSTAMP:20260419T161012
CREATED:20230924T161546Z
LAST-MODIFIED:20230924T161546Z
UID:2067-1696723200-1696809599@guidesource.com
SUMMARY:Multi-pitch Rock Climbing
DESCRIPTION:
URL:https://guidesource.com/event/multi-pitch-rock-climbing-21/
END:VEVENT
BEGIN:VEVENT
DTSTART;VALUE=DATE:20231007
DTEND;VALUE=DATE:20231008
DTSTAMP:20260419T161012
CREATED:20230924T161617Z
LAST-MODIFIED:20230924T161617Z
UID:2069-1696636800-1696723199@guidesource.com
SUMMARY:Rock Climbing
DESCRIPTION:
URL:https://guidesource.com/event/rock-climbing-31/
END:VEVENT
BEGIN:VEVENT
DTSTART;VALUE=DATE:20231004
DTEND;VALUE=DATE:20231202
DTSTAMP:20260419T161012
CREATED:20231020T122823Z
LAST-MODIFIED:20231020T122823Z
UID:2133-1696377600-1701475199@guidesource.com
SUMMARY:Himalayan Expeditions
DESCRIPTION:
URL:https://guidesource.com/event/himalayan-expeditions/
END:VEVENT
BEGIN:VEVENT
DTSTART;VALUE=DATE:20231001
DTEND;VALUE=DATE:20231002
DTSTAMP:20260419T161012
CREATED:20230924T161828Z
LAST-MODIFIED:20230924T161828Z
UID:2077-1696118400-1696204799@guidesource.com
SUMMARY:Glacier Trek & Training
DESCRIPTION:
URL:https://guidesource.com/event/glacier-trek-training-19/
END:VEVENT
BEGIN:VEVENT
DTSTART;VALUE=DATE:20231001
DTEND;VALUE=DATE:20231002
DTSTAMP:20260419T161012
CREATED:20230924T161508Z
LAST-MODIFIED:20230924T161508Z
UID:2065-1696118400-1696204799@guidesource.com
SUMMARY:Multi-pitch Rock Climbing
DESCRIPTION:
URL:https://guidesource.com/event/multi-pitch-rock-climbing-20/
END:VEVENT
BEGIN:VEVENT
DTSTART;VALUE=DATE:20230930
DTEND;VALUE=DATE:20231001
DTSTAMP:20260419T161012
CREATED:20230924T162158Z
LAST-MODIFIED:20230924T162158Z
UID:2087-1696032000-1696118399@guidesource.com
SUMMARY:Glacier Trek & Training
DESCRIPTION:
URL:https://guidesource.com/event/glacier-trek-training-24/
END:VEVENT
BEGIN:VEVENT
DTSTART;VALUE=DATE:20230930
DTEND;VALUE=DATE:20231001
DTSTAMP:20260419T161012
CREATED:20230924T161423Z
LAST-MODIFIED:20230924T161423Z
UID:2063-1696032000-1696118399@guidesource.com
SUMMARY:Rock Climbing
DESCRIPTION:
URL:https://guidesource.com/event/rock-climbing-30/
END:VEVENT
BEGIN:VEVENT
DTSTART;VALUE=DATE:20230924
DTEND;VALUE=DATE:20230925
DTSTAMP:20260419T161012
CREATED:20230924T162440Z
LAST-MODIFIED:20230924T162440Z
UID:2095-1695513600-1695599999@guidesource.com
SUMMARY:Multipitch Rock Climbing
DESCRIPTION:
URL:https://guidesource.com/event/multipitch-rock-climbing/
END:VEVENT
BEGIN:VEVENT
DTSTART;VALUE=DATE:20230924
DTEND;VALUE=DATE:20230925
DTSTAMP:20260419T161012
CREATED:20230924T162349Z
LAST-MODIFIED:20230924T162349Z
UID:2093-1695513600-1695599999@guidesource.com
SUMMARY:Glacier Trek & Training
DESCRIPTION:
URL:https://guidesource.com/event/glacier-trek-training-27/
END:VEVENT
END:VCALENDAR