BEGIN:VCALENDAR
VERSION:2.0
PRODID:-//MatterhornNepal-GuideSource - ECPv6.14.0//NONSGML v1.0//EN
CALSCALE:GREGORIAN
METHOD:PUBLISH
X-WR-CALNAME:MatterhornNepal-GuideSource
X-ORIGINAL-URL:https://guidesource.com
X-WR-CALDESC:Events for MatterhornNepal-GuideSource
REFRESH-INTERVAL;VALUE=DURATION:PT1H
X-Robots-Tag:noindex
X-PUBLISHED-TTL:PT1H
BEGIN:VTIMEZONE
TZID:Europe/Zurich
BEGIN:DAYLIGHT
TZOFFSETFROM:+0100
TZOFFSETTO:+0200
TZNAME:CEST
DTSTART:20230326T010000
END:DAYLIGHT
BEGIN:STANDARD
TZOFFSETFROM:+0200
TZOFFSETTO:+0100
TZNAME:CET
DTSTART:20231029T010000
END:STANDARD
END:VTIMEZONE
BEGIN:VEVENT
DTSTART;VALUE=DATE:20230729
DTEND;VALUE=DATE:20230730
DTSTAMP:20260420T000858
CREATED:20230611T065532Z
LAST-MODIFIED:20230721T120615Z
UID:1959-1690588800-1690675199@guidesource.com
SUMMARY:Solo Rock Climbing Course- FULL
DESCRIPTION:
URL:https://guidesource.com/event/rock-climbing-21/
END:VEVENT
BEGIN:VEVENT
DTSTART;VALUE=DATE:20230725
DTEND;VALUE=DATE:20230727
DTSTAMP:20260420T000858
CREATED:20230721T120229Z
LAST-MODIFIED:20230721T120229Z
UID:2044-1690243200-1690415999@guidesource.com
SUMMARY:Multi-pitch Climbing Seminar- FULL
DESCRIPTION:
URL:https://guidesource.com/event/multi-pitch-climbing-seminar-full/
END:VEVENT
BEGIN:VEVENT
DTSTART;VALUE=DATE:20230725
DTEND;VALUE=DATE:20230728
DTSTAMP:20260420T000858
CREATED:20230710T094652Z
LAST-MODIFIED:20230710T094652Z
UID:2033-1690243200-1690502399@guidesource.com
SUMMARY:Mountaineering Course
DESCRIPTION:
URL:https://guidesource.com/event/mountaineering-course/
END:VEVENT
BEGIN:VEVENT
DTSTART;VALUE=DATE:20230724
DTEND;VALUE=DATE:20230726
DTSTAMP:20260420T000858
CREATED:20230721T120128Z
LAST-MODIFIED:20230721T120141Z
UID:2041-1690156800-1690329599@guidesource.com
SUMMARY:Solo Climbing Seminar- FULL
DESCRIPTION:
URL:https://guidesource.com/event/solo-climbing-seminar/
END:VEVENT
BEGIN:VEVENT
DTSTART;VALUE=DATE:20230723
DTEND;VALUE=DATE:20230724
DTSTAMP:20260420T000858
CREATED:20230611T070628Z
LAST-MODIFIED:20230721T120734Z
UID:1984-1690070400-1690156799@guidesource.com
SUMMARY:Multi-pitch Rock Climbing- FULL
DESCRIPTION:
URL:https://guidesource.com/event/multi-pitch-rock-climbing-16/
END:VEVENT
BEGIN:VEVENT
DTSTART;VALUE=DATE:20230722
DTEND;VALUE=DATE:20230723
DTSTAMP:20260420T000858
CREATED:20230611T065329Z
LAST-MODIFIED:20230721T120809Z
UID:1955-1689984000-1690070399@guidesource.com
SUMMARY:Rock Climbing- FULL
DESCRIPTION:
URL:https://guidesource.com/event/multi-pitch-rock-climbing-13/
END:VEVENT
BEGIN:VEVENT
DTSTART;VALUE=DATE:20230722
DTEND;VALUE=DATE:20230723
DTSTAMP:20260420T000858
CREATED:20230611T065216Z
LAST-MODIFIED:20230721T120837Z
UID:1951-1689984000-1690070399@guidesource.com
SUMMARY:Glacier Trek & Training- FULL
DESCRIPTION:
URL:https://guidesource.com/event/glacier-trek-training-12/
END:VEVENT
BEGIN:VEVENT
DTSTART;VALUE=DATE:20230719
DTEND;VALUE=DATE:20230721
DTSTAMP:20260420T000858
CREATED:20230611T070934Z
LAST-MODIFIED:20230611T070934Z
UID:1992-1689724800-1689897599@guidesource.com
SUMMARY:Glacier Rescue Course 2-days-FULL
DESCRIPTION:
URL:https://guidesource.com/event/glacier-rescue-course-2-days-full-3/
END:VEVENT
BEGIN:VEVENT
DTSTART;VALUE=DATE:20230717
DTEND;VALUE=DATE:20230718
DTSTAMP:20260420T000858
CREATED:20230611T065142Z
LAST-MODIFIED:20230611T065142Z
UID:1949-1689552000-1689638399@guidesource.com
SUMMARY:Glacier Trek & Training - FULL
DESCRIPTION:
URL:https://guidesource.com/event/glacier-trek-training-full-4/
END:VEVENT
BEGIN:VEVENT
DTSTART;VALUE=DATE:20230716
DTEND;VALUE=DATE:20230717
DTSTAMP:20260420T000858
CREATED:20230611T070024Z
LAST-MODIFIED:20230710T065445Z
UID:1975-1689465600-1689551999@guidesource.com
SUMMARY:Solo Rock Climbing Seminar- FULL
DESCRIPTION:
URL:https://guidesource.com/event/rock-climbing-24/
END:VEVENT
BEGIN:VEVENT
DTSTART;VALUE=DATE:20230715
DTEND;VALUE=DATE:20230716
DTSTAMP:20260420T000858
CREATED:20230611T065247Z
LAST-MODIFIED:20230710T065405Z
UID:1953-1689379200-1689465599@guidesource.com
SUMMARY:Rock Climbing- FULL
DESCRIPTION:
URL:https://guidesource.com/event/rock-climbing-19/
END:VEVENT
BEGIN:VEVENT
DTSTART;VALUE=DATE:20230715
DTEND;VALUE=DATE:20230716
DTSTAMP:20260420T000858
CREATED:20230611T065109Z
LAST-MODIFIED:20230710T065330Z
UID:1947-1689379200-1689465599@guidesource.com
SUMMARY:Glacier Trek & Training- FULL
DESCRIPTION:
URL:https://guidesource.com/event/glacier-trek-training-11/
END:VEVENT
BEGIN:VEVENT
DTSTART;VALUE=DATE:20230711
DTEND;VALUE=DATE:20230714
DTSTAMP:20260420T000858
CREATED:20230711T075017Z
LAST-MODIFIED:20230711T075027Z
UID:2037-1689033600-1689292799@guidesource.com
SUMMARY:Mountaineering- FULL
DESCRIPTION:
URL:https://guidesource.com/event/mountaineering/
END:VEVENT
BEGIN:VEVENT
DTSTART;VALUE=DATE:20230709
DTEND;VALUE=DATE:20230710
DTSTAMP:20260420T000858
CREATED:20230611T065957Z
LAST-MODIFIED:20230701T100233Z
UID:1973-1688860800-1688947199@guidesource.com
SUMMARY:Rock Climbing - FULL
DESCRIPTION:
URL:https://guidesource.com/event/rock-climbing-23/
END:VEVENT
BEGIN:VEVENT
DTSTART;VALUE=DATE:20230709
DTEND;VALUE=DATE:20230710
DTSTAMP:20260420T000858
CREATED:20230611T065040Z
LAST-MODIFIED:20230701T100145Z
UID:1945-1688860800-1688947199@guidesource.com
SUMMARY:Glacier Trek & Training- FULL
DESCRIPTION:
URL:https://guidesource.com/event/glacier-trek-training-10/
END:VEVENT
BEGIN:VEVENT
DTSTART;VALUE=DATE:20230708
DTEND;VALUE=DATE:20230710
DTSTAMP:20260420T000858
CREATED:20230611T070904Z
LAST-MODIFIED:20230611T070904Z
UID:1990-1688774400-1688947199@guidesource.com
SUMMARY:Glacier Rescue Course 2-days-FULL
DESCRIPTION:
URL:https://guidesource.com/event/glacier-rescue-course-2-days-full-2/
END:VEVENT
BEGIN:VEVENT
DTSTART;VALUE=DATE:20230708
DTEND;VALUE=DATE:20230709
DTSTAMP:20260420T000858
CREATED:20230611T065018Z
LAST-MODIFIED:20230710T093947Z
UID:1943-1688774400-1688860799@guidesource.com
SUMMARY:Glacier Trek & Training- FULL
DESCRIPTION:
URL:https://guidesource.com/event/glacier-trek-training-9/
END:VEVENT
BEGIN:VEVENT
DTSTART;VALUE=DATE:20230704
DTEND;VALUE=DATE:20230705
DTSTAMP:20260420T000858
CREATED:20230611T064949Z
LAST-MODIFIED:20230611T064949Z
UID:1941-1688428800-1688515199@guidesource.com
SUMMARY:Glacier Trek & Training - FULL
DESCRIPTION:
URL:https://guidesource.com/event/glacier-trek-training-full-3/
END:VEVENT
BEGIN:VEVENT
DTSTART;VALUE=DATE:20230702
DTEND;VALUE=DATE:20230703
DTSTAMP:20260420T000858
CREATED:20230611T070050Z
LAST-MODIFIED:20230611T070304Z
UID:1977-1688256000-1688342399@guidesource.com
SUMMARY:Rock Climbing
DESCRIPTION:
URL:https://guidesource.com/event/rock-climbing-25/
END:VEVENT
BEGIN:VEVENT
DTSTART;VALUE=DATE:20230701
DTEND;VALUE=DATE:20230702
DTSTAMP:20260420T000858
CREATED:20230611T065503Z
LAST-MODIFIED:20230611T065503Z
UID:1957-1688169600-1688255999@guidesource.com
SUMMARY:Rock Climbing
DESCRIPTION:
URL:https://guidesource.com/event/rock-climbing-20/
END:VEVENT
BEGIN:VEVENT
DTSTART;VALUE=DATE:20230625
DTEND;VALUE=DATE:20230626
DTSTAMP:20260420T000858
CREATED:20230611T064913Z
LAST-MODIFIED:20230611T064913Z
UID:1939-1687651200-1687737599@guidesource.com
SUMMARY:Glacier Trek & Training
DESCRIPTION:
URL:https://guidesource.com/event/glacier-trek-training-8/
END:VEVENT
BEGIN:VEVENT
DTSTART;VALUE=DATE:20230625
DTEND;VALUE=DATE:20230626
DTSTAMP:20260420T000858
CREATED:20230611T064835Z
LAST-MODIFIED:20230611T064835Z
UID:1937-1687651200-1687737599@guidesource.com
SUMMARY:Multi-pitch Rock Climbing
DESCRIPTION:
URL:https://guidesource.com/event/multi-pitch-rock-climbing-12/
END:VEVENT
BEGIN:VEVENT
DTSTART;VALUE=DATE:20230624
DTEND;VALUE=DATE:20230625
DTSTAMP:20260420T000858
CREATED:20230611T064810Z
LAST-MODIFIED:20230611T064810Z
UID:1935-1687564800-1687651199@guidesource.com
SUMMARY:Glacier Trek & Training
DESCRIPTION:
URL:https://guidesource.com/event/glacier-trek-training-7/
END:VEVENT
BEGIN:VEVENT
DTSTART;VALUE=DATE:20230620
DTEND;VALUE=DATE:20230622
DTSTAMP:20260420T000858
CREATED:20230611T071005Z
LAST-MODIFIED:20230611T071005Z
UID:1994-1687219200-1687391999@guidesource.com
SUMMARY:Glacier Rescue Course 2-days-FULL
DESCRIPTION:
URL:https://guidesource.com/event/glacier-rescue-course-2-days-full-4/
END:VEVENT
BEGIN:VEVENT
DTSTART;VALUE=DATE:20230618
DTEND;VALUE=DATE:20230619
DTSTAMP:20260420T000858
CREATED:20230611T064741Z
LAST-MODIFIED:20230611T064741Z
UID:1933-1687046400-1687132799@guidesource.com
SUMMARY:Multi-pitch Rock Climbing
DESCRIPTION:
URL:https://guidesource.com/event/multi-pitch-rock-climbing-11/
END:VEVENT
BEGIN:VEVENT
DTSTART;VALUE=DATE:20230617
DTEND;VALUE=DATE:20230619
DTSTAMP:20260420T000858
CREATED:20230611T070832Z
LAST-MODIFIED:20230611T070832Z
UID:1988-1686960000-1687132799@guidesource.com
SUMMARY:Glacier Rescue Course 2-days-FULL
DESCRIPTION:
URL:https://guidesource.com/event/glacier-rescue-course-2-days-full/
END:VEVENT
BEGIN:VEVENT
DTSTART;VALUE=DATE:20230617
DTEND;VALUE=DATE:20230618
DTSTAMP:20260420T000858
CREATED:20230611T064715Z
LAST-MODIFIED:20230611T064715Z
UID:1931-1686960000-1687046399@guidesource.com
SUMMARY:Rock Climbing
DESCRIPTION:
URL:https://guidesource.com/event/rock-climbing-18/
END:VEVENT
BEGIN:VEVENT
DTSTART;VALUE=DATE:20230611
DTEND;VALUE=DATE:20230612
DTSTAMP:20260420T000858
CREATED:20230611T064641Z
LAST-MODIFIED:20230611T064641Z
UID:1929-1686441600-1686527999@guidesource.com
SUMMARY:Multi-pitch Rock Climbing - FULL
DESCRIPTION:
URL:https://guidesource.com/event/multi-pitch-rock-climbing-full-3/
END:VEVENT
BEGIN:VEVENT
DTSTART;VALUE=DATE:20230521
DTEND;VALUE=DATE:20230522
DTSTAMP:20260420T000858
CREATED:20230404T163141Z
LAST-MODIFIED:20230404T163141Z
UID:1922-1684627200-1684713599@guidesource.com
SUMMARY:Multi-pitch Rock Climbing
DESCRIPTION:
URL:https://guidesource.com/event/multi-pitch-rock-climbing-10/
END:VEVENT
BEGIN:VEVENT
DTSTART;VALUE=DATE:20230520
DTEND;VALUE=DATE:20230521
DTSTAMP:20260420T000858
CREATED:20230404T163105Z
LAST-MODIFIED:20230404T163105Z
UID:1920-1684540800-1684627199@guidesource.com
SUMMARY:Rock Climbing
DESCRIPTION:
URL:https://guidesource.com/event/rock-climbing-17/
END:VEVENT
END:VCALENDAR