BEGIN:VCALENDAR
VERSION:2.0
PRODID:-//MatterhornNepal-GuideSource - ECPv6.14.0//NONSGML v1.0//EN
CALSCALE:GREGORIAN
METHOD:PUBLISH
X-WR-CALNAME:MatterhornNepal-GuideSource
X-ORIGINAL-URL:https://guidesource.com
X-WR-CALDESC:Events for MatterhornNepal-GuideSource
REFRESH-INTERVAL;VALUE=DURATION:PT1H
X-Robots-Tag:noindex
X-PUBLISHED-TTL:PT1H
BEGIN:VTIMEZONE
TZID:Europe/Zurich
BEGIN:DAYLIGHT
TZOFFSETFROM:+0100
TZOFFSETTO:+0200
TZNAME:CEST
DTSTART:20220327T010000
END:DAYLIGHT
BEGIN:STANDARD
TZOFFSETFROM:+0200
TZOFFSETTO:+0100
TZNAME:CET
DTSTART:20221030T010000
END:STANDARD
END:VTIMEZONE
BEGIN:VEVENT
DTSTART;VALUE=DATE:20220521
DTEND;VALUE=DATE:20220522
DTSTAMP:20260422T235707
CREATED:20220502T102558Z
LAST-MODIFIED:20220502T102558Z
UID:1752-1653091200-1653177599@guidesource.com
SUMMARY:Rock Climbing - FULL
DESCRIPTION:
URL:https://guidesource.com/event/rock-climbing-full/
END:VEVENT
BEGIN:VEVENT
DTSTART;VALUE=DATE:20220521
DTEND;VALUE=DATE:20220522
DTSTAMP:20260422T235707
CREATED:20220502T102403Z
LAST-MODIFIED:20220502T102443Z
UID:1748-1653091200-1653177599@guidesource.com
SUMMARY:Glacier Trek & Training - FULL
DESCRIPTION:
URL:https://guidesource.com/event/glacier-trek-training-full/
END:VEVENT
BEGIN:VEVENT
DTSTART;VALUE=DATE:20220514
DTEND;VALUE=DATE:20220515
DTSTAMP:20260422T235707
CREATED:20220501T122152Z
LAST-MODIFIED:20220501T122152Z
UID:1746-1652486400-1652572799@guidesource.com
SUMMARY:Glacier Trek & Training
DESCRIPTION:
URL:https://guidesource.com/event/glacier-trek-training-2/
END:VEVENT
BEGIN:VEVENT
DTSTART;VALUE=DATE:20220508
DTEND;VALUE=DATE:20220509
DTSTAMP:20260422T235707
CREATED:20220329T105218Z
LAST-MODIFIED:20220501T122017Z
UID:1739-1651968000-1652054399@guidesource.com
SUMMARY:Rock Climbing Multipitch
DESCRIPTION:
URL:https://guidesource.com/event/rock-climbing-multipitch/
END:VEVENT
BEGIN:VEVENT
DTSTART;VALUE=DATE:20220507
DTEND;VALUE=DATE:20220508
DTSTAMP:20260422T235707
CREATED:20220329T105129Z
LAST-MODIFIED:20220501T122048Z
UID:1737-1651881600-1651967999@guidesource.com
SUMMARY:Rock Climbing
DESCRIPTION:
URL:https://guidesource.com/event/rock-climbing-2/
END:VEVENT
BEGIN:VEVENT
DTSTART;VALUE=DATE:20220501
DTEND;VALUE=DATE:20220701
DTSTAMP:20260422T235707
CREATED:20220525T130022Z
LAST-MODIFIED:20220525T130022Z
UID:1759-1651363200-1656633599@guidesource.com
SUMMARY:Himalayan Expedition Climbs
DESCRIPTION:
URL:https://guidesource.com/event/himalayan-expedition-climbs/
END:VEVENT
BEGIN:VEVENT
DTSTART;VALUE=DATE:20220430
DTEND;VALUE=DATE:20220501
DTSTAMP:20260422T235707
CREATED:20220329T105322Z
LAST-MODIFIED:20220501T121941Z
UID:1743-1651276800-1651363199@guidesource.com
SUMMARY:Rock Climbing
DESCRIPTION:
URL:https://guidesource.com/event/rock-climbing-3/
END:VEVENT
BEGIN:VEVENT
DTSTART;VALUE=DATE:20220424
DTEND;VALUE=DATE:20220425
DTSTAMP:20260422T235707
CREATED:20220329T105248Z
LAST-MODIFIED:20220501T121906Z
UID:1741-1650758400-1650844799@guidesource.com
SUMMARY:Rock Climbing Multipitch
DESCRIPTION:
URL:https://guidesource.com/event/rock-climbing-multipitch-2/
END:VEVENT
BEGIN:VEVENT
DTSTART;VALUE=DATE:20220312
DTEND;VALUE=DATE:20220314
DTSTAMP:20260422T235707
CREATED:20220304T095222Z
LAST-MODIFIED:20220304T095222Z
UID:1734-1647043200-1647215999@guidesource.com
SUMMARY:Avalanche Course - 2 openings
DESCRIPTION:
URL:https://guidesource.com/event/avalanche-course-2-openings/
END:VEVENT
BEGIN:VEVENT
DTSTART;VALUE=DATE:20220305
DTEND;VALUE=DATE:20220307
DTSTAMP:20260422T235707
CREATED:20220117T101205Z
LAST-MODIFIED:20220304T095114Z
UID:1707-1646438400-1646611199@guidesource.com
SUMMARY:Avalanche Course - FULL
DESCRIPTION:
URL:https://guidesource.com/event/avalanche-course-2-places/
END:VEVENT
BEGIN:VEVENT
DTSTART;VALUE=DATE:20220226
DTEND;VALUE=DATE:20220228
DTSTAMP:20260422T235707
CREATED:20220117T101114Z
LAST-MODIFIED:20220117T101114Z
UID:1705-1645833600-1646006399@guidesource.com
SUMMARY:Avalanche Course Level 1
DESCRIPTION:
URL:https://guidesource.com/event/avalanche-course-level-1-3/
END:VEVENT
BEGIN:VEVENT
DTSTART;VALUE=DATE:20220219
DTEND;VALUE=DATE:20220221
DTSTAMP:20260422T235707
CREATED:20220117T100947Z
LAST-MODIFIED:20220210T115847Z
UID:1702-1645228800-1645401599@guidesource.com
SUMMARY:Avalanche Course Level I - FULL
DESCRIPTION:
URL:https://guidesource.com/event/avalanche-course-level-1-2/
END:VEVENT
BEGIN:VEVENT
DTSTART;VALUE=DATE:20220215
DTEND;VALUE=DATE:20220217
DTSTAMP:20260422T235707
CREATED:20220127T093720Z
LAST-MODIFIED:20220210T120116Z
UID:1724-1644883200-1645055999@guidesource.com
SUMMARY:Private Avalanche Course - FULL
DESCRIPTION:
URL:https://guidesource.com/event/private-avalanche-course/
END:VEVENT
BEGIN:VEVENT
DTSTART;VALUE=DATE:20220212
DTEND;VALUE=DATE:20220214
DTSTAMP:20260422T235707
CREATED:20220116T095236Z
LAST-MODIFIED:20220210T115916Z
UID:1700-1644624000-1644796799@guidesource.com
SUMMARY:Avalanche Course Level 1 - FULL
DESCRIPTION:
URL:https://guidesource.com/event/avalanche-course-level-1/
END:VEVENT
BEGIN:VEVENT
DTSTART;VALUE=DATE:20220206
DTEND;VALUE=DATE:20220207
DTSTAMP:20260422T235707
CREATED:20220117T101358Z
LAST-MODIFIED:20220210T120019Z
UID:1713-1644105600-1644191999@guidesource.com
SUMMARY:Ice Climbing - FULL
DESCRIPTION:
URL:https://guidesource.com/event/ice-climbing-3/
END:VEVENT
BEGIN:VEVENT
DTSTART;VALUE=DATE:20220205
DTEND;VALUE=DATE:20220206
DTSTAMP:20260422T235707
CREATED:20220117T101333Z
LAST-MODIFIED:20220117T101333Z
UID:1711-1644019200-1644105599@guidesource.com
SUMMARY:Ice Climbing
DESCRIPTION:
URL:https://guidesource.com/event/ice-climbing-2/
END:VEVENT
BEGIN:VEVENT
DTSTART;VALUE=DATE:20220205
DTEND;VALUE=DATE:20220207
DTSTAMP:20260422T235707
CREATED:20220116T095136Z
LAST-MODIFIED:20220116T095136Z
UID:1698-1644019200-1644191999@guidesource.com
SUMMARY:Avalanche Course - FULL
DESCRIPTION:
URL:https://guidesource.com/event/avalanche-course-full/
END:VEVENT
BEGIN:VEVENT
DTSTART;VALUE=DATE:20220129
DTEND;VALUE=DATE:20220131
DTSTAMP:20260422T235707
CREATED:20220113T174926Z
LAST-MODIFIED:20220127T093310Z
UID:1688-1643414400-1643587199@guidesource.com
SUMMARY:Avalanche Course- FULL
DESCRIPTION:
URL:https://guidesource.com/event/avalanche-course-level-1-weekend/
END:VEVENT
BEGIN:VEVENT
DTSTART;VALUE=DATE:20220129
DTEND;VALUE=DATE:20220130
DTSTAMP:20260422T235707
CREATED:20211129T091342Z
LAST-MODIFIED:20220127T093352Z
UID:1658-1643414400-1643500799@guidesource.com
SUMMARY:Ice Climbing - FULL
DESCRIPTION:
URL:https://guidesource.com/event/ice-climbing-level-i-2/
CATEGORIES:Ice Climbing
END:VEVENT
BEGIN:VEVENT
DTSTART;VALUE=DATE:20220123
DTEND;VALUE=DATE:20220124
DTSTAMP:20260422T235707
CREATED:20220117T101254Z
LAST-MODIFIED:20220117T101254Z
UID:1709-1642896000-1642982399@guidesource.com
SUMMARY:Ice Climbing
DESCRIPTION:
URL:https://guidesource.com/event/ice-climbing/
END:VEVENT
BEGIN:VEVENT
DTSTART;VALUE=DATE:20220122
DTEND;VALUE=DATE:20220124
DTSTAMP:20260422T235707
CREATED:20211129T090852Z
LAST-MODIFIED:20220113T204112Z
UID:1652-1642809600-1642982399@guidesource.com
SUMMARY:Avalanche Course Level I- FULL
DESCRIPTION:
URL:https://guidesource.com/event/avalanche-course-level-i/
END:VEVENT
BEGIN:VEVENT
DTSTART;TZID=Europe/Zurich:20220121T190000
DTEND;TZID=Europe/Zurich:20220121T203000
DTSTAMP:20260422T235707
CREATED:20211206T150832Z
LAST-MODIFIED:20220113T203914Z
UID:1675-1642791600-1642797000@guidesource.com
SUMMARY:Avalanche Safety Presentation
DESCRIPTION:
URL:https://guidesource.com/event/avalanche-safety-presentation-meyrin-ge-ch-2/
LOCATION:Totem Escalade\, Gland\, Switzerland
END:VEVENT
BEGIN:VEVENT
DTSTART;VALUE=DATE:20220116
DTEND;VALUE=DATE:20220117
DTSTAMP:20260422T235707
CREATED:20211129T091039Z
LAST-MODIFIED:20211129T091045Z
UID:1654-1642291200-1642377599@guidesource.com
SUMMARY:Avalanche Awareness Snowshoeing
DESCRIPTION:
URL:https://guidesource.com/event/avalanche-awareness-snowshoeing-2/
END:VEVENT
BEGIN:VEVENT
DTSTART;VALUE=DATE:20220115
DTEND;VALUE=DATE:20220116
DTSTAMP:20260422T235707
CREATED:20211129T091213Z
LAST-MODIFIED:20211129T091213Z
UID:1656-1642204800-1642291199@guidesource.com
SUMMARY:Ice Climbing Level I
DESCRIPTION:
URL:https://guidesource.com/event/ice-climbing-level-i/
END:VEVENT
BEGIN:VEVENT
DTSTART;VALUE=DATE:20220115
DTEND;VALUE=DATE:20220117
DTSTAMP:20260422T235707
CREATED:20211206T123229Z
LAST-MODIFIED:20220113T204000Z
UID:1670-1642204800-1642377599@guidesource.com
SUMMARY:Avalanche Course Level I - FULL
DESCRIPTION:
URL:https://guidesource.com/event/avalanche-course-level-i-2-days-full/
END:VEVENT
BEGIN:VEVENT
DTSTART;TZID=Europe/Zurich:20220114T190000
DTEND;TZID=Europe/Zurich:20220114T200000
DTSTAMP:20260422T235707
CREATED:20211206T150531Z
LAST-MODIFIED:20220113T204335Z
UID:1672-1642186800-1642190400@guidesource.com
SUMMARY:Avalanche Safety Presentation
DESCRIPTION:
URL:https://guidesource.com/event/avalanche-safety-presentation-meyrin-ge-ch/
LOCATION:Totem Escalade\, Gland\, Switzerland
END:VEVENT
BEGIN:VEVENT
DTSTART;VALUE=DATE:20220109
DTEND;VALUE=DATE:20220110
DTSTAMP:20260422T235707
CREATED:20211115T091533Z
LAST-MODIFIED:20211115T091622Z
UID:1647-1641686400-1641772799@guidesource.com
SUMMARY:Beginners Ice Climbing
DESCRIPTION:
URL:https://guidesource.com/event/beginners-ice-climbing/
END:VEVENT
BEGIN:VEVENT
DTSTART;VALUE=DATE:20220108
DTEND;VALUE=DATE:20220110
DTSTAMP:20260422T235707
CREATED:20211102T143733Z
LAST-MODIFIED:20211102T204138Z
UID:1638-1641600000-1641772799@guidesource.com
SUMMARY:Avalanche Course Level 1 - (2 days)
DESCRIPTION:
URL:https://guidesource.com/event/avalanche-course-level-1-2-days/
CATEGORIES:Avalanche Course
END:VEVENT
BEGIN:VEVENT
DTSTART;VALUE=DATE:20220108
DTEND;VALUE=DATE:20220109
DTSTAMP:20260422T235707
CREATED:20211129T090737Z
LAST-MODIFIED:20211129T090749Z
UID:1650-1641600000-1641686399@guidesource.com
SUMMARY:Avalanche Awareness Snowshoeing
DESCRIPTION:
URL:https://guidesource.com/event/avalanche-awareness-snowshoeing/
END:VEVENT
BEGIN:VEVENT
DTSTART;VALUE=DATE:20220101
DTEND;VALUE=DATE:20220103
DTSTAMP:20260422T235707
CREATED:20211102T203612Z
LAST-MODIFIED:20211223T092209Z
UID:1643-1640995200-1641167999@guidesource.com
SUMMARY:Avalanche Course Level 1 - FULL
DESCRIPTION:Add details if necessary
URL:https://guidesource.com/event/avalanche-course-level-1-2-days-2/
LOCATION:Avalanche Course Level 1\, Chamonix\, France
CATEGORIES:Avalanche Course
END:VEVENT
END:VCALENDAR