BEGIN:VCALENDAR
VERSION:2.0
PRODID:-//MatterhornNepal-GuideSource - ECPv6.14.0//NONSGML v1.0//EN
CALSCALE:GREGORIAN
METHOD:PUBLISH
X-WR-CALNAME:MatterhornNepal-GuideSource
X-ORIGINAL-URL:https://guidesource.com
X-WR-CALDESC:Events for MatterhornNepal-GuideSource
REFRESH-INTERVAL;VALUE=DURATION:PT1H
X-Robots-Tag:noindex
X-PUBLISHED-TTL:PT1H
BEGIN:VTIMEZONE
TZID:Europe/Zurich
BEGIN:DAYLIGHT
TZOFFSETFROM:+0100
TZOFFSETTO:+0200
TZNAME:CEST
DTSTART:20210328T010000
END:DAYLIGHT
BEGIN:STANDARD
TZOFFSETFROM:+0200
TZOFFSETTO:+0100
TZNAME:CET
DTSTART:20211031T010000
END:STANDARD
BEGIN:DAYLIGHT
TZOFFSETFROM:+0100
TZOFFSETTO:+0200
TZNAME:CEST
DTSTART:20220327T010000
END:DAYLIGHT
BEGIN:STANDARD
TZOFFSETFROM:+0200
TZOFFSETTO:+0100
TZNAME:CET
DTSTART:20221030T010000
END:STANDARD
END:VTIMEZONE
BEGIN:VEVENT
DTSTART;VALUE=DATE:20220108
DTEND;VALUE=DATE:20220110
DTSTAMP:20260423T001534
CREATED:20211102T143733Z
LAST-MODIFIED:20211102T204138Z
UID:1638-1641600000-1641772799@guidesource.com
SUMMARY:Avalanche Course Level 1 - (2 days)
DESCRIPTION:
URL:https://guidesource.com/event/avalanche-course-level-1-2-days/
CATEGORIES:Avalanche Course
END:VEVENT
BEGIN:VEVENT
DTSTART;VALUE=DATE:20220108
DTEND;VALUE=DATE:20220109
DTSTAMP:20260423T001534
CREATED:20211129T090737Z
LAST-MODIFIED:20211129T090749Z
UID:1650-1641600000-1641686399@guidesource.com
SUMMARY:Avalanche Awareness Snowshoeing
DESCRIPTION:
URL:https://guidesource.com/event/avalanche-awareness-snowshoeing/
END:VEVENT
BEGIN:VEVENT
DTSTART;VALUE=DATE:20220101
DTEND;VALUE=DATE:20220103
DTSTAMP:20260423T001534
CREATED:20211102T203612Z
LAST-MODIFIED:20211223T092209Z
UID:1643-1640995200-1641167999@guidesource.com
SUMMARY:Avalanche Course Level 1 - FULL
DESCRIPTION:Add details if necessary
URL:https://guidesource.com/event/avalanche-course-level-1-2-days-2/
LOCATION:Avalanche Course Level 1\, Chamonix\, France
CATEGORIES:Avalanche Course
END:VEVENT
BEGIN:VEVENT
DTSTART;VALUE=DATE:20211218
DTEND;VALUE=DATE:20211220
DTSTAMP:20260423T001534
CREATED:20211206T151421Z
LAST-MODIFIED:20211206T151421Z
UID:1679-1639785600-1639958399@guidesource.com
SUMMARY:Avalanche Course Level I (2-days)-FULL
DESCRIPTION:
URL:https://guidesource.com/event/avalanche-course-level-i-2-days-full-2/
END:VEVENT
BEGIN:VEVENT
DTSTART;TZID=Europe/Zurich:20211217T190000
DTEND;TZID=Europe/Zurich:20211217T203000
DTSTAMP:20260423T001534
CREATED:20211206T151249Z
LAST-MODIFIED:20211206T151249Z
UID:1677-1639767600-1639773000@guidesource.com
SUMMARY:Avalanche Safety Presentation Ecublens CH
DESCRIPTION:
URL:https://guidesource.com/event/avalanche-safety-presentation-ecublens-ch-2/
END:VEVENT
BEGIN:VEVENT
DTSTART;VALUE=DATE:20211211
DTEND;VALUE=DATE:20211213
DTSTAMP:20260423T001534
CREATED:20211206T151612Z
LAST-MODIFIED:20211206T151612Z
UID:1681-1639180800-1639353599@guidesource.com
SUMMARY:Avalanche Course Level I (2-days)- FULL
DESCRIPTION:
URL:https://guidesource.com/event/avalanche-course-level-i-2-days-full-3/
END:VEVENT
BEGIN:VEVENT
DTSTART;TZID=Europe/Zurich:20211210T190000
DTEND;TZID=Europe/Zurich:20211210T203000
DTSTAMP:20260423T001534
CREATED:20211129T114859Z
LAST-MODIFIED:20211129T114859Z
UID:1667-1639162800-1639168200@guidesource.com
SUMMARY:Avalanche Safety Presentations Versoix CH
DESCRIPTION:
URL:https://guidesource.com/event/avalanche-safety-presentations-versoix-ch/
CATEGORIES:Avalanche Safety Presentation
END:VEVENT
BEGIN:VEVENT
DTSTART;TZID=Europe/Zurich:20211203T190000
DTEND;TZID=Europe/Zurich:20211203T203000
DTSTAMP:20260423T001534
CREATED:20211129T114623Z
LAST-MODIFIED:20211129T114731Z
UID:1662-1638558000-1638563400@guidesource.com
SUMMARY:Avalanche Safety Presentation Vevey CH
DESCRIPTION:
URL:https://guidesource.com/event/avalanche-safety-presentation-ecublens-ch/
CATEGORIES:Avalanche Safety Presentation
END:VEVENT
BEGIN:VEVENT
DTSTART;VALUE=DATE:20211031
DTEND;VALUE=DATE:20211101
DTSTAMP:20260423T001534
CREATED:20211014T230553Z
LAST-MODIFIED:20211014T230602Z
UID:1629-1635638400-1635724799@guidesource.com
SUMMARY:Glacier Trek & Training
DESCRIPTION:
URL:https://guidesource.com/event/glacier-trek-training/
END:VEVENT
BEGIN:VEVENT
DTSTART;VALUE=DATE:20211030
DTEND;VALUE=DATE:20211031
DTSTAMP:20260423T001534
CREATED:20211014T230305Z
LAST-MODIFIED:20211014T230321Z
UID:1627-1635552000-1635638399@guidesource.com
SUMMARY:Rock Climbing
DESCRIPTION:
URL:https://guidesource.com/event/rock-climbing/
END:VEVENT
END:VCALENDAR