BEGIN:VCALENDAR
VERSION:2.0
PRODID:-//MatterhornNepal-GuideSource - ECPv6.14.0//NONSGML v1.0//EN
CALSCALE:GREGORIAN
METHOD:PUBLISH
X-ORIGINAL-URL:https://guidesource.com
X-WR-CALDESC:Events for MatterhornNepal-GuideSource
REFRESH-INTERVAL;VALUE=DURATION:PT1H
X-Robots-Tag:noindex
X-PUBLISHED-TTL:PT1H
BEGIN:VTIMEZONE
TZID:Europe/Zurich
BEGIN:DAYLIGHT
TZOFFSETFROM:+0100
TZOFFSETTO:+0200
TZNAME:CEST
DTSTART:20220327T010000
END:DAYLIGHT
BEGIN:STANDARD
TZOFFSETFROM:+0200
TZOFFSETTO:+0100
TZNAME:CET
DTSTART:20221030T010000
END:STANDARD
END:VTIMEZONE
BEGIN:VEVENT
DTSTART;VALUE=DATE:20221001
DTEND;VALUE=DATE:20221201
DTSTAMP:20260422T163930
CREATED:20221031T074654Z
LAST-MODIFIED:20221031T074654Z
UID:1823-1664582400-1669852799@guidesource.com
SUMMARY:Himalayan Mountaineering
DESCRIPTION:
URL:https://guidesource.com/event/himalayan-mountaineering/
END:VEVENT
BEGIN:VEVENT
DTSTART;VALUE=DATE:20221001
DTEND;VALUE=DATE:20221201
DTSTAMP:20260422T163930
CREATED:20221031T075001Z
LAST-MODIFIED:20221031T075001Z
UID:1826-1664582400-1669852799@guidesource.com
SUMMARY:Himalayan Trekking
DESCRIPTION:
URL:https://guidesource.com/event/himalayan-trekking/
END:VEVENT
BEGIN:VEVENT
DTSTART;VALUE=DATE:20221105
DTEND;VALUE=DATE:20221106
DTSTAMP:20260422T163930
CREATED:20221005T171647Z
LAST-MODIFIED:20221031T073837Z
UID:1807-1667606400-1667692799@guidesource.com
SUMMARY:Multi-pitch Rock Climbing
DESCRIPTION:
URL:https://guidesource.com/event/multi-pitch-rock-climbing-6/
END:VEVENT
BEGIN:VEVENT
DTSTART;VALUE=DATE:20221106
DTEND;VALUE=DATE:20221107
DTSTAMP:20260422T163930
CREATED:20221031T074358Z
LAST-MODIFIED:20221031T074358Z
UID:1818-1667692800-1667779199@guidesource.com
SUMMARY:Rock Climbing
DESCRIPTION:
URL:https://guidesource.com/event/rock-climbing-11/
END:VEVENT
BEGIN:VEVENT
DTSTART;VALUE=DATE:20221112
DTEND;VALUE=DATE:20221113
DTSTAMP:20260422T163930
CREATED:20221031T073920Z
LAST-MODIFIED:20221031T074537Z
UID:1810-1668211200-1668297599@guidesource.com
SUMMARY:Rock Climbing
DESCRIPTION:
URL:https://guidesource.com/event/multi-pitch-rock-climbing-7/
END:VEVENT
BEGIN:VEVENT
DTSTART;VALUE=DATE:20221113
DTEND;VALUE=DATE:20221114
DTSTAMP:20260422T163930
CREATED:20221031T073951Z
LAST-MODIFIED:20221031T073951Z
UID:1812-1668297600-1668383999@guidesource.com
SUMMARY:Multi-pitch Rock Climbing
DESCRIPTION:
URL:https://guidesource.com/event/multi-pitch-rock-climbing-8/
END:VEVENT
BEGIN:VEVENT
DTSTART;VALUE=DATE:20221119
DTEND;VALUE=DATE:20221120
DTSTAMP:20260422T163930
CREATED:20221031T074429Z
LAST-MODIFIED:20221031T074429Z
UID:1820-1668816000-1668902399@guidesource.com
SUMMARY:Rock Climbing
DESCRIPTION:
URL:https://guidesource.com/event/rock-climbing-12/
END:VEVENT
BEGIN:VEVENT
DTSTART;VALUE=DATE:20221120
DTEND;VALUE=DATE:20221121
DTSTAMP:20260422T163930
CREATED:20221005T171620Z
LAST-MODIFIED:20221031T074050Z
UID:1805-1668902400-1668988799@guidesource.com
SUMMARY:Multi-pitch Rock Climbing
DESCRIPTION:
URL:https://guidesource.com/event/multi-pitch-rock-climbing-5/
END:VEVENT
BEGIN:VEVENT
DTSTART;VALUE=DATE:20221126
DTEND;VALUE=DATE:20221127
DTSTAMP:20260422T163930
CREATED:20221031T074237Z
LAST-MODIFIED:20221031T074237Z
UID:1816-1669420800-1669507199@guidesource.com
SUMMARY:Rock Climbing
DESCRIPTION:
URL:https://guidesource.com/event/rock-climbing-10/
END:VEVENT
END:VCALENDAR