BEGIN:VCALENDAR
VERSION:2.0
PRODID:-//MatterhornNepal-GuideSource - ECPv6.14.0//NONSGML v1.0//EN
CALSCALE:GREGORIAN
METHOD:PUBLISH
X-ORIGINAL-URL:https://guidesource.com
X-WR-CALDESC:Events for MatterhornNepal-GuideSource
REFRESH-INTERVAL;VALUE=DURATION:PT1H
X-Robots-Tag:noindex
X-PUBLISHED-TTL:PT1H
BEGIN:VTIMEZONE
TZID:Europe/Zurich
BEGIN:DAYLIGHT
TZOFFSETFROM:+0100
TZOFFSETTO:+0200
TZNAME:CEST
DTSTART:20230326T010000
END:DAYLIGHT
BEGIN:STANDARD
TZOFFSETFROM:+0200
TZOFFSETTO:+0100
TZNAME:CET
DTSTART:20231029T010000
END:STANDARD
END:VTIMEZONE
BEGIN:VEVENT
DTSTART;VALUE=DATE:20230204
DTEND;VALUE=DATE:20230206
DTSTAMP:20260422T120615
CREATED:20221229T110110Z
LAST-MODIFIED:20221229T110110Z
UID:1847-1675468800-1675641599@guidesource.com
SUMMARY:Avalanche Course
DESCRIPTION:
URL:https://guidesource.com/event/avalanche-course-5/
END:VEVENT
BEGIN:VEVENT
DTSTART;VALUE=DATE:20230204
DTEND;VALUE=DATE:20230205
DTSTAMP:20260422T120615
CREATED:20230129T150720Z
LAST-MODIFIED:20230129T150720Z
UID:1876-1675468800-1675555199@guidesource.com
SUMMARY:Ice Climbing - Beginners
DESCRIPTION:
URL:https://guidesource.com/event/ice-climbing-beginners/
END:VEVENT
BEGIN:VEVENT
DTSTART;VALUE=DATE:20230205
DTEND;VALUE=DATE:20230206
DTSTAMP:20260422T120615
CREATED:20230129T150757Z
LAST-MODIFIED:20230129T150757Z
UID:1878-1675555200-1675641599@guidesource.com
SUMMARY:Ice Climbing - Intermediate
DESCRIPTION:
URL:https://guidesource.com/event/ice-climbing-intermediate/
END:VEVENT
BEGIN:VEVENT
DTSTART;VALUE=DATE:20230211
DTEND;VALUE=DATE:20230213
DTSTAMP:20260422T120615
CREATED:20230115T143541Z
LAST-MODIFIED:20230115T143613Z
UID:1861-1676073600-1676246399@guidesource.com
SUMMARY:Avalanche Course - FULL
DESCRIPTION:
URL:https://guidesource.com/event/avalanche-course-8/
END:VEVENT
BEGIN:VEVENT
DTSTART;VALUE=DATE:20230211
DTEND;VALUE=DATE:20230213
DTSTAMP:20260422T120615
CREATED:20230129T150453Z
LAST-MODIFIED:20230129T150453Z
UID:1870-1676073600-1676246399@guidesource.com
SUMMARY:Avalanche Course - 2 days
DESCRIPTION:
URL:https://guidesource.com/event/avalanche-course-2-days/
END:VEVENT
BEGIN:VEVENT
DTSTART;VALUE=DATE:20230218
DTEND;VALUE=DATE:20230220
DTSTAMP:20260422T120615
CREATED:20230129T150542Z
LAST-MODIFIED:20230129T150542Z
UID:1872-1676678400-1676851199@guidesource.com
SUMMARY:Avalanche Course - FULL
DESCRIPTION:
URL:https://guidesource.com/event/avalanche-course-full-2/
END:VEVENT
BEGIN:VEVENT
DTSTART;VALUE=DATE:20230218
DTEND;VALUE=DATE:20230219
DTSTAMP:20260422T120615
CREATED:20230129T150848Z
LAST-MODIFIED:20230129T150848Z
UID:1880-1676678400-1676764799@guidesource.com
SUMMARY:Ice Climbing - Intermediate FULL
DESCRIPTION:
URL:https://guidesource.com/event/ice-climbing-intermediate-full/
END:VEVENT
BEGIN:VEVENT
DTSTART;VALUE=DATE:20230218
DTEND;VALUE=DATE:20230219
DTSTAMP:20260422T120615
CREATED:20230129T151111Z
LAST-MODIFIED:20230129T151111Z
UID:1886-1676678400-1676764799@guidesource.com
SUMMARY:Snowshoeing- FULL
DESCRIPTION:
URL:https://guidesource.com/event/snowshoeing-full/
END:VEVENT
BEGIN:VEVENT
DTSTART;VALUE=DATE:20230219
DTEND;VALUE=DATE:20230220
DTSTAMP:20260422T120615
CREATED:20230129T150932Z
LAST-MODIFIED:20230129T150932Z
UID:1882-1676764800-1676851199@guidesource.com
SUMMARY:Ice Climbing - Beginner - FULL
DESCRIPTION:
URL:https://guidesource.com/event/ice-climbing-beginner-full/
END:VEVENT
BEGIN:VEVENT
DTSTART;VALUE=DATE:20230219
DTEND;VALUE=DATE:20230220
DTSTAMP:20260422T120615
CREATED:20230129T151211Z
LAST-MODIFIED:20230129T151211Z
UID:1888-1676764800-1676851199@guidesource.com
SUMMARY:Family Snowshoeing - FULL
DESCRIPTION:
URL:https://guidesource.com/event/family-snowshoeing-full/
END:VEVENT
BEGIN:VEVENT
DTSTART;VALUE=DATE:20230225
DTEND;VALUE=DATE:20230227
DTSTAMP:20260422T120615
CREATED:20230113T160305Z
LAST-MODIFIED:20230113T160305Z
UID:1857-1677283200-1677455999@guidesource.com
SUMMARY:Avalanche Course
DESCRIPTION:
URL:https://guidesource.com/event/avalanche-course-6/
END:VEVENT
BEGIN:VEVENT
DTSTART;VALUE=DATE:20230225
DTEND;VALUE=DATE:20230227
DTSTAMP:20260422T120615
CREATED:20230129T150624Z
LAST-MODIFIED:20230129T150624Z
UID:1874-1677283200-1677455999@guidesource.com
SUMMARY:Avalanche Course - 2 days
DESCRIPTION:
URL:https://guidesource.com/event/avalanche-course-2-days-2/
END:VEVENT
BEGIN:VEVENT
DTSTART;VALUE=DATE:20230225
DTEND;VALUE=DATE:20230227
DTSTAMP:20260422T120615
CREATED:20230129T151014Z
LAST-MODIFIED:20230129T151014Z
UID:1884-1677283200-1677455999@guidesource.com
SUMMARY:Avalanche Course - 2 days
DESCRIPTION:
URL:https://guidesource.com/event/avalanche-course-2-days-3/
END:VEVENT
END:VCALENDAR