BEGIN:VCALENDAR
VERSION:2.0
PRODID:-//MatterhornNepal-GuideSource - ECPv6.14.0//NONSGML v1.0//EN
CALSCALE:GREGORIAN
METHOD:PUBLISH
X-ORIGINAL-URL:https://guidesource.com
X-WR-CALDESC:Events for MatterhornNepal-GuideSource
REFRESH-INTERVAL;VALUE=DURATION:PT1H
X-Robots-Tag:noindex
X-PUBLISHED-TTL:PT1H
BEGIN:VTIMEZONE
TZID:Europe/Zurich
BEGIN:DAYLIGHT
TZOFFSETFROM:+0100
TZOFFSETTO:+0200
TZNAME:CEST
DTSTART:20230326T010000
END:DAYLIGHT
BEGIN:STANDARD
TZOFFSETFROM:+0200
TZOFFSETTO:+0100
TZNAME:CET
DTSTART:20231029T010000
END:STANDARD
END:VTIMEZONE
BEGIN:VEVENT
DTSTART;VALUE=DATE:20230401
DTEND;VALUE=DATE:20230403
DTSTAMP:20260422T083805
CREATED:20230320T103154Z
LAST-MODIFIED:20230320T103154Z
UID:1891-1680307200-1680479999@guidesource.com
SUMMARY:Rock Climbing
DESCRIPTION:
URL:https://guidesource.com/event/rock-climbing-13/
END:VEVENT
BEGIN:VEVENT
DTSTART;VALUE=DATE:20230408
DTEND;VALUE=DATE:20230410
DTSTAMP:20260422T083805
CREATED:20230320T103304Z
LAST-MODIFIED:20230320T103304Z
UID:1893-1680912000-1681084799@guidesource.com
SUMMARY:Rock Climbing
DESCRIPTION:
URL:https://guidesource.com/event/rock-climbing-14/
END:VEVENT
BEGIN:VEVENT
DTSTART;VALUE=DATE:20230408
DTEND;VALUE=DATE:20230604
DTSTAMP:20260422T083805
CREATED:20230320T103510Z
LAST-MODIFIED:20230320T103510Z
UID:1899-1680912000-1685836799@guidesource.com
SUMMARY:Himalayan Mountaineering
DESCRIPTION:
URL:https://guidesource.com/event/himalayan-mountaineering-2/
END:VEVENT
BEGIN:VEVENT
DTSTART;VALUE=DATE:20230415
DTEND;VALUE=DATE:20230417
DTSTAMP:20260422T083805
CREATED:20230320T103341Z
LAST-MODIFIED:20230320T103341Z
UID:1895-1681516800-1681689599@guidesource.com
SUMMARY:Rock Climbing
DESCRIPTION:
URL:https://guidesource.com/event/rock-climbing-15/
END:VEVENT
BEGIN:VEVENT
DTSTART;VALUE=DATE:20230422
DTEND;VALUE=DATE:20230424
DTSTAMP:20260422T083805
CREATED:20230320T103423Z
LAST-MODIFIED:20230320T103423Z
UID:1897-1682121600-1682294399@guidesource.com
SUMMARY:Rock Climbing
DESCRIPTION:
URL:https://guidesource.com/event/rock-climbing-16/
END:VEVENT
BEGIN:VEVENT
DTSTART;VALUE=DATE:20230429
DTEND;VALUE=DATE:20230430
DTSTAMP:20260422T083805
CREATED:20230404T162555Z
LAST-MODIFIED:20230404T162555Z
UID:1904-1682726400-1682812799@guidesource.com
SUMMARY:Rock Climbing - FULL
DESCRIPTION:
URL:https://guidesource.com/event/rock-climbing-full-3/
END:VEVENT
BEGIN:VEVENT
DTSTART;VALUE=DATE:20230430
DTEND;VALUE=DATE:20230501
DTSTAMP:20260422T083805
CREATED:20230404T162654Z
LAST-MODIFIED:20230404T162654Z
UID:1906-1682812800-1682899199@guidesource.com
SUMMARY:Multi-pitch Rock Climbing- FULL
DESCRIPTION:
URL:https://guidesource.com/event/multi-pitch-rock-climbing-full/
END:VEVENT
END:VCALENDAR