BEGIN:VCALENDAR
VERSION:2.0
PRODID:-//MatterhornNepal-GuideSource - ECPv6.14.0//NONSGML v1.0//EN
CALSCALE:GREGORIAN
METHOD:PUBLISH
X-WR-CALNAME:MatterhornNepal-GuideSource
X-ORIGINAL-URL:https://guidesource.com
X-WR-CALDESC:Events for MatterhornNepal-GuideSource
REFRESH-INTERVAL;VALUE=DURATION:PT1H
X-Robots-Tag:noindex
X-PUBLISHED-TTL:PT1H
BEGIN:VTIMEZONE
TZID:Europe/Zurich
BEGIN:DAYLIGHT
TZOFFSETFROM:+0100
TZOFFSETTO:+0200
TZNAME:CEST
DTSTART:20230326T010000
END:DAYLIGHT
BEGIN:STANDARD
TZOFFSETFROM:+0200
TZOFFSETTO:+0100
TZNAME:CET
DTSTART:20231029T010000
END:STANDARD
END:VTIMEZONE
BEGIN:VEVENT
DTSTART;VALUE=DATE:20230902
DTEND;VALUE=DATE:20230903
DTSTAMP:20260421T204341
CREATED:20230710T070357Z
LAST-MODIFIED:20230710T070357Z
UID:2017-1693612800-1693699199@guidesource.com
SUMMARY:Glacier Trek & Training
DESCRIPTION:
URL:https://guidesource.com/event/glacier-trek-training-17/
END:VEVENT
BEGIN:VEVENT
DTSTART;VALUE=DATE:20230902
DTEND;VALUE=DATE:20230903
DTSTAMP:20260421T204341
CREATED:20230710T094212Z
LAST-MODIFIED:20230710T094212Z
UID:2022-1693612800-1693699199@guidesource.com
SUMMARY:Rock Climbing
DESCRIPTION:
URL:https://guidesource.com/event/rock-climbing-28/
END:VEVENT
BEGIN:VEVENT
DTSTART;VALUE=DATE:20230903
DTEND;VALUE=DATE:20230904
DTSTAMP:20260421T204341
CREATED:20230710T094241Z
LAST-MODIFIED:20230710T094241Z
UID:2024-1693699200-1693785599@guidesource.com
SUMMARY:Rock Climbing
DESCRIPTION:
URL:https://guidesource.com/event/rock-climbing-29/
END:VEVENT
BEGIN:VEVENT
DTSTART;VALUE=DATE:20230909
DTEND;VALUE=DATE:20230910
DTSTAMP:20260421T204341
CREATED:20230924T161753Z
LAST-MODIFIED:20230924T161753Z
UID:2075-1694217600-1694303999@guidesource.com
SUMMARY:Glacier Trek & Training
DESCRIPTION:
URL:https://guidesource.com/event/glacier-trek-training-18/
END:VEVENT
BEGIN:VEVENT
DTSTART;VALUE=DATE:20230910
DTEND;VALUE=DATE:20230911
DTSTAMP:20260421T204341
CREATED:20230924T162300Z
LAST-MODIFIED:20230924T162300Z
UID:2089-1694304000-1694390399@guidesource.com
SUMMARY:Glacier Trek & Training
DESCRIPTION:
URL:https://guidesource.com/event/glacier-trek-training-25/
END:VEVENT
BEGIN:VEVENT
DTSTART;VALUE=DATE:20230910
DTEND;VALUE=DATE:20230911
DTSTAMP:20260421T204341
CREATED:20230924T162529Z
LAST-MODIFIED:20230924T162529Z
UID:2099-1694304000-1694390399@guidesource.com
SUMMARY:Rock Climbing
DESCRIPTION:
URL:https://guidesource.com/event/rock-climbing-34/
END:VEVENT
BEGIN:VEVENT
DTSTART;VALUE=DATE:20230916
DTEND;VALUE=DATE:20230917
DTSTAMP:20260421T204341
CREATED:20230924T162102Z
LAST-MODIFIED:20230924T162102Z
UID:2083-1694822400-1694908799@guidesource.com
SUMMARY:Glacier Trek & Training
DESCRIPTION:
URL:https://guidesource.com/event/glacier-trek-training-22/
END:VEVENT
BEGIN:VEVENT
DTSTART;VALUE=DATE:20230916
DTEND;VALUE=DATE:20230917
DTSTAMP:20260421T204341
CREATED:20230924T162131Z
LAST-MODIFIED:20230924T162131Z
UID:2085-1694822400-1694908799@guidesource.com
SUMMARY:Glacier Trek & Training
DESCRIPTION:
URL:https://guidesource.com/event/glacier-trek-training-23/
END:VEVENT
BEGIN:VEVENT
DTSTART;VALUE=DATE:20230917
DTEND;VALUE=DATE:20230918
DTSTAMP:20260421T204341
CREATED:20230924T162324Z
LAST-MODIFIED:20230924T162324Z
UID:2091-1694908800-1694995199@guidesource.com
SUMMARY:Glacier Trek & Training
DESCRIPTION:
URL:https://guidesource.com/event/glacier-trek-training-26/
END:VEVENT
BEGIN:VEVENT
DTSTART;VALUE=DATE:20230917
DTEND;VALUE=DATE:20230918
DTSTAMP:20260421T204341
CREATED:20230924T162504Z
LAST-MODIFIED:20230924T162504Z
UID:2097-1694908800-1694995199@guidesource.com
SUMMARY:Rock Climbing
DESCRIPTION:
URL:https://guidesource.com/event/rock-climbing-33/
END:VEVENT
BEGIN:VEVENT
DTSTART;VALUE=DATE:20230924
DTEND;VALUE=DATE:20230925
DTSTAMP:20260421T204341
CREATED:20230924T162349Z
LAST-MODIFIED:20230924T162349Z
UID:2093-1695513600-1695599999@guidesource.com
SUMMARY:Glacier Trek & Training
DESCRIPTION:
URL:https://guidesource.com/event/glacier-trek-training-27/
END:VEVENT
BEGIN:VEVENT
DTSTART;VALUE=DATE:20230924
DTEND;VALUE=DATE:20230925
DTSTAMP:20260421T204341
CREATED:20230924T162440Z
LAST-MODIFIED:20230924T162440Z
UID:2095-1695513600-1695599999@guidesource.com
SUMMARY:Multipitch Rock Climbing
DESCRIPTION:
URL:https://guidesource.com/event/multipitch-rock-climbing/
END:VEVENT
BEGIN:VEVENT
DTSTART;VALUE=DATE:20230930
DTEND;VALUE=DATE:20231001
DTSTAMP:20260421T204341
CREATED:20230924T161423Z
LAST-MODIFIED:20230924T161423Z
UID:2063-1696032000-1696118399@guidesource.com
SUMMARY:Rock Climbing
DESCRIPTION:
URL:https://guidesource.com/event/rock-climbing-30/
END:VEVENT
BEGIN:VEVENT
DTSTART;VALUE=DATE:20230930
DTEND;VALUE=DATE:20231001
DTSTAMP:20260421T204341
CREATED:20230924T162158Z
LAST-MODIFIED:20230924T162158Z
UID:2087-1696032000-1696118399@guidesource.com
SUMMARY:Glacier Trek & Training
DESCRIPTION:
URL:https://guidesource.com/event/glacier-trek-training-24/
END:VEVENT
END:VCALENDAR