BEGIN:VCALENDAR
VERSION:2.0
PRODID:-//MatterhornNepal-GuideSource - ECPv6.14.0//NONSGML v1.0//EN
CALSCALE:GREGORIAN
METHOD:PUBLISH
X-WR-CALNAME:MatterhornNepal-GuideSource
X-ORIGINAL-URL:https://guidesource.com
X-WR-CALDESC:Events for MatterhornNepal-GuideSource
REFRESH-INTERVAL;VALUE=DURATION:PT1H
X-Robots-Tag:noindex
X-PUBLISHED-TTL:PT1H
BEGIN:VTIMEZONE
TZID:Europe/Zurich
BEGIN:DAYLIGHT
TZOFFSETFROM:+0100
TZOFFSETTO:+0200
TZNAME:CEST
DTSTART:20240331T010000
END:DAYLIGHT
BEGIN:STANDARD
TZOFFSETFROM:+0200
TZOFFSETTO:+0100
TZNAME:CET
DTSTART:20241027T010000
END:STANDARD
END:VTIMEZONE
BEGIN:VEVENT
DTSTART;VALUE=DATE:20240106
DTEND;VALUE=DATE:20240108
DTSTAMP:20260421T172201
CREATED:20231021T095659Z
LAST-MODIFIED:20231021T095659Z
UID:2144-1704499200-1704671999@guidesource.com
SUMMARY:2-day Avalanche Course
DESCRIPTION:
URL:https://guidesource.com/event/2-day-avalanche-course/
END:VEVENT
BEGIN:VEVENT
DTSTART;VALUE=DATE:20240106
DTEND;VALUE=DATE:20240108
DTSTAMP:20260421T172201
CREATED:20231214T063024Z
LAST-MODIFIED:20240102T151531Z
UID:2166-1704499200-1704671999@guidesource.com
SUMMARY:Avalanche Course - FULL
DESCRIPTION:
URL:https://guidesource.com/event/avalanche-course-9/
END:VEVENT
BEGIN:VEVENT
DTSTART;VALUE=DATE:20240113
DTEND;VALUE=DATE:20240115
DTSTAMP:20260421T172201
CREATED:20231021T095732Z
LAST-MODIFIED:20231021T095732Z
UID:2146-1705104000-1705276799@guidesource.com
SUMMARY:2-day Avalanche Course
DESCRIPTION:
URL:https://guidesource.com/event/2-day-avalanche-course-2/
END:VEVENT
BEGIN:VEVENT
DTSTART;VALUE=DATE:20240113
DTEND;VALUE=DATE:20240115
DTSTAMP:20260421T172201
CREATED:20231214T063104Z
LAST-MODIFIED:20240112T123650Z
UID:2168-1705104000-1705276799@guidesource.com
SUMMARY:Avalanche Course - FULL
DESCRIPTION:
URL:https://guidesource.com/event/avalanche-course-2-places-left/
END:VEVENT
BEGIN:VEVENT
DTSTART;VALUE=DATE:20240120
DTEND;VALUE=DATE:20240122
DTSTAMP:20260421T172201
CREATED:20231021T095802Z
LAST-MODIFIED:20240117T134614Z
UID:2148-1705708800-1705881599@guidesource.com
SUMMARY:2-day Avalanche Course - FULL
DESCRIPTION:
URL:https://guidesource.com/event/2-day-avalanche-course-3/
END:VEVENT
BEGIN:VEVENT
DTSTART;VALUE=DATE:20240120
DTEND;VALUE=DATE:20240121
DTSTAMP:20260421T172201
CREATED:20240117T134902Z
LAST-MODIFIED:20240117T134902Z
UID:2188-1705708800-1705795199@guidesource.com
SUMMARY:Beginners Ice Climbing - FULL
DESCRIPTION:
URL:https://guidesource.com/event/beginners-ice-climbing-full/
END:VEVENT
BEGIN:VEVENT
DTSTART;VALUE=DATE:20240120
DTEND;VALUE=DATE:20240122
DTSTAMP:20260421T172201
CREATED:20240117T135901Z
LAST-MODIFIED:20240117T135901Z
UID:2204-1705708800-1705881599@guidesource.com
SUMMARY:Snowshoeing w/Avalanche Awareness- FULL
DESCRIPTION:
URL:https://guidesource.com/event/snowshoeing-w-avalanche-awareness-full/
END:VEVENT
BEGIN:VEVENT
DTSTART;VALUE=DATE:20240121
DTEND;VALUE=DATE:20240122
DTSTAMP:20260421T172201
CREATED:20240117T134937Z
LAST-MODIFIED:20240122T115626Z
UID:2190-1705795200-1705881599@guidesource.com
SUMMARY:Advanced Ice Climbing- FULL
DESCRIPTION:
URL:https://guidesource.com/event/advanced-ice-climbing/
END:VEVENT
BEGIN:VEVENT
DTSTART;VALUE=DATE:20240127
DTEND;VALUE=DATE:20240129
DTSTAMP:20260421T172201
CREATED:20231021T095831Z
LAST-MODIFIED:20231021T095831Z
UID:2150-1706313600-1706486399@guidesource.com
SUMMARY:2-day Avalanche Course
DESCRIPTION:
URL:https://guidesource.com/event/2-day-avalanche-course-4/
END:VEVENT
BEGIN:VEVENT
DTSTART;VALUE=DATE:20240127
DTEND;VALUE=DATE:20240129
DTSTAMP:20260421T172201
CREATED:20231214T063215Z
LAST-MODIFIED:20231214T063215Z
UID:2172-1706313600-1706486399@guidesource.com
SUMMARY:Avalanche Course - 2 places left
DESCRIPTION:
URL:https://guidesource.com/event/avalanche-course-2-places-left-2/
END:VEVENT
BEGIN:VEVENT
DTSTART;VALUE=DATE:20240127
DTEND;VALUE=DATE:20240128
DTSTAMP:20260421T172201
CREATED:20240117T135002Z
LAST-MODIFIED:20240117T135002Z
UID:2192-1706313600-1706399999@guidesource.com
SUMMARY:Beginners Ice Climbing
DESCRIPTION:
URL:https://guidesource.com/event/beginners-ice-climbing-2/
END:VEVENT
BEGIN:VEVENT
DTSTART;VALUE=DATE:20240127
DTEND;VALUE=DATE:20240128
DTSTAMP:20260421T172201
CREATED:20240117T135924Z
LAST-MODIFIED:20240117T135924Z
UID:2206-1706313600-1706399999@guidesource.com
SUMMARY:Snowshoeing w/Avalanche Awareness
DESCRIPTION:
URL:https://guidesource.com/event/snowshoeing-w-avalanche-awareness/
END:VEVENT
BEGIN:VEVENT
DTSTART;VALUE=DATE:20240128
DTEND;VALUE=DATE:20240129
DTSTAMP:20260421T172201
CREATED:20240117T135038Z
LAST-MODIFIED:20240117T135038Z
UID:2194-1706400000-1706486399@guidesource.com
SUMMARY:Advanced Ice Climbing
DESCRIPTION:
URL:https://guidesource.com/event/advanced-ice-climbing-2/
END:VEVENT
BEGIN:VEVENT
DTSTART;VALUE=DATE:20240128
DTEND;VALUE=DATE:20240129
DTSTAMP:20260421T172201
CREATED:20240117T140004Z
LAST-MODIFIED:20240117T140004Z
UID:2208-1706400000-1706486399@guidesource.com
SUMMARY:Family Snowshoeing w/Avalanche Awareness
DESCRIPTION:
URL:https://guidesource.com/event/family-snowshoeing-w-avalanche-awareness/
END:VEVENT
END:VCALENDAR