BEGIN:VCALENDAR
VERSION:2.0
PRODID:-//MatterhornNepal-GuideSource - ECPv6.14.0//NONSGML v1.0//EN
CALSCALE:GREGORIAN
METHOD:PUBLISH
X-WR-CALNAME:MatterhornNepal-GuideSource
X-ORIGINAL-URL:https://guidesource.com
X-WR-CALDESC:Events for MatterhornNepal-GuideSource
REFRESH-INTERVAL;VALUE=DURATION:PT1H
X-Robots-Tag:noindex
X-PUBLISHED-TTL:PT1H
BEGIN:VTIMEZONE
TZID:Europe/Zurich
BEGIN:DAYLIGHT
TZOFFSETFROM:+0100
TZOFFSETTO:+0200
TZNAME:CEST
DTSTART:20240331T010000
END:DAYLIGHT
BEGIN:STANDARD
TZOFFSETFROM:+0200
TZOFFSETTO:+0100
TZNAME:CET
DTSTART:20241027T010000
END:STANDARD
END:VTIMEZONE
BEGIN:VEVENT
DTSTART;VALUE=DATE:20240203
DTEND;VALUE=DATE:20240205
DTSTAMP:20260421T122154
CREATED:20231021T095900Z
LAST-MODIFIED:20231021T095900Z
UID:2152-1706918400-1707091199@guidesource.com
SUMMARY:2-day Avalanche Course
DESCRIPTION:
URL:https://guidesource.com/event/2-day-avalanche-course-5/
END:VEVENT
BEGIN:VEVENT
DTSTART;VALUE=DATE:20240203
DTEND;VALUE=DATE:20240205
DTSTAMP:20260421T122154
CREATED:20231214T063245Z
LAST-MODIFIED:20231214T063245Z
UID:2174-1706918400-1707091199@guidesource.com
SUMMARY:Avalanche Course
DESCRIPTION:
URL:https://guidesource.com/event/avalanche-course-11/
END:VEVENT
BEGIN:VEVENT
DTSTART;VALUE=DATE:20240203
DTEND;VALUE=DATE:20240204
DTSTAMP:20260421T122154
CREATED:20240117T135102Z
LAST-MODIFIED:20240117T135102Z
UID:2196-1706918400-1707004799@guidesource.com
SUMMARY:Beginners Ice Climbing
DESCRIPTION:
URL:https://guidesource.com/event/beginners-ice-climbing-3/
END:VEVENT
BEGIN:VEVENT
DTSTART;VALUE=DATE:20240204
DTEND;VALUE=DATE:20240205
DTSTAMP:20260421T122154
CREATED:20240117T135129Z
LAST-MODIFIED:20240117T135129Z
UID:2198-1707004800-1707091199@guidesource.com
SUMMARY:Beginners Ice Climbing
DESCRIPTION:
URL:https://guidesource.com/event/beginners-ice-climbing-4/
END:VEVENT
BEGIN:VEVENT
DTSTART;VALUE=DATE:20240204
DTEND;VALUE=DATE:20240205
DTSTAMP:20260421T122154
CREATED:20240117T140035Z
LAST-MODIFIED:20240117T140035Z
UID:2210-1707004800-1707091199@guidesource.com
SUMMARY:Snowshoeing w/Avalanche Awareness
DESCRIPTION:
URL:https://guidesource.com/event/snowshoeing-w-avalanche-awareness-2/
END:VEVENT
BEGIN:VEVENT
DTSTART;VALUE=DATE:20240204
DTEND;VALUE=DATE:20240205
DTSTAMP:20260421T122154
CREATED:20240117T140108Z
LAST-MODIFIED:20240117T140108Z
UID:2212-1707004800-1707091199@guidesource.com
SUMMARY:Family Snowshoeing w/Avalanche Awareness
DESCRIPTION:
URL:https://guidesource.com/event/family-snowshoeing-w-avalanche-awareness-2/
END:VEVENT
BEGIN:VEVENT
DTSTART;VALUE=DATE:20240210
DTEND;VALUE=DATE:20240212
DTSTAMP:20260421T122154
CREATED:20231021T095928Z
LAST-MODIFIED:20240208T101232Z
UID:2154-1707523200-1707695999@guidesource.com
SUMMARY:2-day Avalanche Course - FULL
DESCRIPTION:
URL:https://guidesource.com/event/2-day-avalanche-course-6/
END:VEVENT
BEGIN:VEVENT
DTSTART;VALUE=DATE:20240210
DTEND;VALUE=DATE:20240212
DTSTAMP:20260421T122154
CREATED:20231214T063322Z
LAST-MODIFIED:20240208T101210Z
UID:2176-1707523200-1707695999@guidesource.com
SUMMARY:Avalanche Course - FULL
DESCRIPTION:
URL:https://guidesource.com/event/avalanche-course-12/
END:VEVENT
BEGIN:VEVENT
DTSTART;VALUE=DATE:20240211
DTEND;VALUE=DATE:20240212
DTSTAMP:20260421T122154
CREATED:20240117T135154Z
LAST-MODIFIED:20240208T101123Z
UID:2200-1707609600-1707695999@guidesource.com
SUMMARY:Beginners Ice Climbing - FULL
DESCRIPTION:
URL:https://guidesource.com/event/beginners-ice-climbing-5/
END:VEVENT
BEGIN:VEVENT
DTSTART;VALUE=DATE:20240212
DTEND;VALUE=DATE:20240214
DTSTAMP:20260421T122154
CREATED:20240208T101324Z
LAST-MODIFIED:20240214T093303Z
UID:2223-1707696000-1707868799@guidesource.com
SUMMARY:Private Avalanche  - FULL
DESCRIPTION:
URL:https://guidesource.com/event/private-avalanche-course-2/
END:VEVENT
BEGIN:VEVENT
DTSTART;VALUE=DATE:20240217
DTEND;VALUE=DATE:20240219
DTSTAMP:20260421T122154
CREATED:20231021T100002Z
LAST-MODIFIED:20240208T101056Z
UID:2156-1708128000-1708300799@guidesource.com
SUMMARY:2-day Avalanche Course - FULL
DESCRIPTION:
URL:https://guidesource.com/event/2-day-avalanche-course-7/
END:VEVENT
BEGIN:VEVENT
DTSTART;VALUE=DATE:20240217
DTEND;VALUE=DATE:20240218
DTSTAMP:20260421T122154
CREATED:20240117T135228Z
LAST-MODIFIED:20240208T101148Z
UID:2202-1708128000-1708214399@guidesource.com
SUMMARY:Advanced Ice Climbing - FULL
DESCRIPTION:
URL:https://guidesource.com/event/advanced-ice-climbing-3/
END:VEVENT
BEGIN:VEVENT
DTSTART;VALUE=DATE:20240219
DTEND;VALUE=DATE:20240221
DTSTAMP:20260421T122154
CREATED:20240208T101410Z
LAST-MODIFIED:20240208T101410Z
UID:2225-1708300800-1708473599@guidesource.com
SUMMARY:Private Avalanche Course
DESCRIPTION:
URL:https://guidesource.com/event/private-avalanche-course-3/
END:VEVENT
BEGIN:VEVENT
DTSTART;VALUE=DATE:20240224
DTEND;VALUE=DATE:20240226
DTSTAMP:20260421T122154
CREATED:20231021T100029Z
LAST-MODIFIED:20240222T162451Z
UID:2158-1708732800-1708905599@guidesource.com
SUMMARY:2-day Avalanche Course - FULL
DESCRIPTION:
URL:https://guidesource.com/event/2-day-avalanche-course-8/
END:VEVENT
END:VCALENDAR