BEGIN:VCALENDAR
VERSION:2.0
PRODID:-//MatterhornNepal-GuideSource - ECPv6.14.0//NONSGML v1.0//EN
CALSCALE:GREGORIAN
METHOD:PUBLISH
X-WR-CALNAME:MatterhornNepal-GuideSource
X-ORIGINAL-URL:https://guidesource.com
X-WR-CALDESC:Events for MatterhornNepal-GuideSource
REFRESH-INTERVAL;VALUE=DURATION:PT1H
X-Robots-Tag:noindex
X-PUBLISHED-TTL:PT1H
BEGIN:VTIMEZONE
TZID:Europe/Zurich
BEGIN:DAYLIGHT
TZOFFSETFROM:+0100
TZOFFSETTO:+0200
TZNAME:CEST
DTSTART:20240331T010000
END:DAYLIGHT
BEGIN:STANDARD
TZOFFSETFROM:+0200
TZOFFSETTO:+0100
TZNAME:CET
DTSTART:20241027T010000
END:STANDARD
END:VTIMEZONE
BEGIN:VEVENT
DTSTART;VALUE=DATE:20240401
DTEND;VALUE=DATE:20240608
DTSTAMP:20260421T072533
CREATED:20240401T095708Z
LAST-MODIFIED:20240401T095708Z
UID:2238-1711929600-1717804799@guidesource.com
SUMMARY:Himalayan Mountaineering
DESCRIPTION:
URL:https://guidesource.com/event/himalayan-mountaineering-3/
END:VEVENT
BEGIN:VEVENT
DTSTART;VALUE=DATE:20240401
DTEND;VALUE=DATE:20240706
DTSTAMP:20260421T072533
CREATED:20240401T095804Z
LAST-MODIFIED:20240401T095804Z
UID:2240-1711929600-1720223999@guidesource.com
SUMMARY:Himalayan Trekking
DESCRIPTION:
URL:https://guidesource.com/event/himalayan-trekking-2/
END:VEVENT
BEGIN:VEVENT
DTSTART;VALUE=DATE:20240504
DTEND;VALUE=DATE:20240506
DTSTAMP:20260421T072533
CREATED:20240412T122336Z
LAST-MODIFIED:20240412T122336Z
UID:2247-1714780800-1714953599@guidesource.com
SUMMARY:Rock Climbing
DESCRIPTION:
URL:https://guidesource.com/event/rock-climbing-40/
END:VEVENT
BEGIN:VEVENT
DTSTART;VALUE=DATE:20240505
DTEND;VALUE=DATE:20240506
DTSTAMP:20260421T072533
CREATED:20240412T122818Z
LAST-MODIFIED:20240412T122818Z
UID:2263-1714867200-1714953599@guidesource.com
SUMMARY:Multi-pitch Rock Climbing
DESCRIPTION:
URL:https://guidesource.com/event/multi-pitch-rock-climbing-29/
END:VEVENT
BEGIN:VEVENT
DTSTART;VALUE=DATE:20240511
DTEND;VALUE=DATE:20240512
DTSTAMP:20260421T072533
CREATED:20240412T122412Z
LAST-MODIFIED:20240412T122412Z
UID:2249-1715385600-1715471999@guidesource.com
SUMMARY:Rock Climbing
DESCRIPTION:
URL:https://guidesource.com/event/rock-climbing-41/
END:VEVENT
BEGIN:VEVENT
DTSTART;VALUE=DATE:20240511
DTEND;VALUE=DATE:20240512
DTSTAMP:20260421T072533
CREATED:20240412T122908Z
LAST-MODIFIED:20240412T122908Z
UID:2265-1715385600-1715471999@guidesource.com
SUMMARY:Glacier Trek & Training
DESCRIPTION:
URL:https://guidesource.com/event/glacier-trek-training-32/
END:VEVENT
BEGIN:VEVENT
DTSTART;VALUE=DATE:20240512
DTEND;VALUE=DATE:20240513
DTSTAMP:20260421T072533
CREATED:20240412T122504Z
LAST-MODIFIED:20240412T122504Z
UID:2251-1715472000-1715558399@guidesource.com
SUMMARY:Multi-pitch Rock Climbing
DESCRIPTION:
URL:https://guidesource.com/event/multi-pitch-rock-climbing-23/
END:VEVENT
BEGIN:VEVENT
DTSTART;VALUE=DATE:20240518
DTEND;VALUE=DATE:20240519
DTSTAMP:20260421T072533
CREATED:20240412T123008Z
LAST-MODIFIED:20240412T123008Z
UID:2269-1715990400-1716076799@guidesource.com
SUMMARY:Glacier Trek & Training
DESCRIPTION:
URL:https://guidesource.com/event/glacier-trek-training-34/
END:VEVENT
BEGIN:VEVENT
DTSTART;VALUE=DATE:20240519
DTEND;VALUE=DATE:20240520
DTSTAMP:20260421T072533
CREATED:20240412T122646Z
LAST-MODIFIED:20240412T122646Z
UID:2257-1716076800-1716163199@guidesource.com
SUMMARY:Multi-pitch Rock Climbing
DESCRIPTION:
URL:https://guidesource.com/event/multi-pitch-rock-climbing-26/
END:VEVENT
BEGIN:VEVENT
DTSTART;VALUE=DATE:20240525
DTEND;VALUE=DATE:20240526
DTSTAMP:20260421T072533
CREATED:20240412T122935Z
LAST-MODIFIED:20240412T122935Z
UID:2267-1716595200-1716681599@guidesource.com
SUMMARY:Glacier Trek & Training
DESCRIPTION:
URL:https://guidesource.com/event/glacier-trek-training-33/
END:VEVENT
BEGIN:VEVENT
DTSTART;VALUE=DATE:20240525
DTEND;VALUE=DATE:20240527
DTSTAMP:20260421T072533
CREATED:20240523T130233Z
LAST-MODIFIED:20240523T130609Z
UID:2272-1716595200-1716767999@guidesource.com
SUMMARY:Rock Climbing _ FULL
DESCRIPTION:
URL:https://guidesource.com/event/rock-climbing-42/
END:VEVENT
BEGIN:VEVENT
DTSTART;VALUE=DATE:20240526
DTEND;VALUE=DATE:20240527
DTSTAMP:20260421T072533
CREATED:20240412T122540Z
LAST-MODIFIED:20240412T122540Z
UID:2253-1716681600-1716767999@guidesource.com
SUMMARY:Multi-pitch Rock Climbing
DESCRIPTION:
URL:https://guidesource.com/event/multi-pitch-rock-climbing-24/
END:VEVENT
END:VCALENDAR