BEGIN:VCALENDAR
VERSION:2.0
PRODID:-//MatterhornNepal-GuideSource - ECPv6.14.0//NONSGML v1.0//EN
CALSCALE:GREGORIAN
METHOD:PUBLISH
X-WR-CALNAME:MatterhornNepal-GuideSource
X-ORIGINAL-URL:https://guidesource.com
X-WR-CALDESC:Events for MatterhornNepal-GuideSource
REFRESH-INTERVAL;VALUE=DURATION:PT1H
X-Robots-Tag:noindex
X-PUBLISHED-TTL:PT1H
BEGIN:VTIMEZONE
TZID:Europe/Zurich
BEGIN:DAYLIGHT
TZOFFSETFROM:+0100
TZOFFSETTO:+0200
TZNAME:CEST
DTSTART:20240331T010000
END:DAYLIGHT
BEGIN:STANDARD
TZOFFSETFROM:+0200
TZOFFSETTO:+0100
TZNAME:CET
DTSTART:20241027T010000
END:STANDARD
END:VTIMEZONE
BEGIN:VEVENT
DTSTART;VALUE=DATE:20240401
DTEND;VALUE=DATE:20240608
DTSTAMP:20260421T053603
CREATED:20240401T095708Z
LAST-MODIFIED:20240401T095708Z
UID:2238-1711929600-1717804799@guidesource.com
SUMMARY:Himalayan Mountaineering
DESCRIPTION:
URL:https://guidesource.com/event/himalayan-mountaineering-3/
END:VEVENT
BEGIN:VEVENT
DTSTART;VALUE=DATE:20240401
DTEND;VALUE=DATE:20240706
DTSTAMP:20260421T053603
CREATED:20240401T095804Z
LAST-MODIFIED:20240401T095804Z
UID:2240-1711929600-1720223999@guidesource.com
SUMMARY:Himalayan Trekking
DESCRIPTION:
URL:https://guidesource.com/event/himalayan-trekking-2/
END:VEVENT
BEGIN:VEVENT
DTSTART;VALUE=DATE:20240601
DTEND;VALUE=DATE:20240602
DTSTAMP:20260421T053603
CREATED:20240523T130309Z
LAST-MODIFIED:20240523T130309Z
UID:2274-1717200000-1717286399@guidesource.com
SUMMARY:Rock Climbing
DESCRIPTION:
URL:https://guidesource.com/event/rock-climbing-43/
END:VEVENT
BEGIN:VEVENT
DTSTART;VALUE=DATE:20240602
DTEND;VALUE=DATE:20240603
DTSTAMP:20260421T053603
CREATED:20240412T122617Z
LAST-MODIFIED:20240412T122617Z
UID:2255-1717286400-1717372799@guidesource.com
SUMMARY:Multi-pitch Rock Climbing
DESCRIPTION:
URL:https://guidesource.com/event/multi-pitch-rock-climbing-25/
END:VEVENT
BEGIN:VEVENT
DTSTART;VALUE=DATE:20240602
DTEND;VALUE=DATE:20240603
DTSTAMP:20260421T053603
CREATED:20240523T130345Z
LAST-MODIFIED:20240523T130345Z
UID:2276-1717286400-1717372799@guidesource.com
SUMMARY:Rock Climbing
DESCRIPTION:
URL:https://guidesource.com/event/rock-climbing-44/
END:VEVENT
BEGIN:VEVENT
DTSTART;VALUE=DATE:20240608
DTEND;VALUE=DATE:20240610
DTSTAMP:20260421T053603
CREATED:20240523T130428Z
LAST-MODIFIED:20240523T130428Z
UID:2278-1717804800-1717977599@guidesource.com
SUMMARY:Rock Climbing
DESCRIPTION:
URL:https://guidesource.com/event/rock-climbing-45/
END:VEVENT
BEGIN:VEVENT
DTSTART;VALUE=DATE:20240615
DTEND;VALUE=DATE:20240617
DTSTAMP:20260421T053603
CREATED:20240523T130509Z
LAST-MODIFIED:20240523T130509Z
UID:2280-1718409600-1718582399@guidesource.com
SUMMARY:Rock Climbing - FULL
DESCRIPTION:
URL:https://guidesource.com/event/rock-climbing-full-6/
END:VEVENT
BEGIN:VEVENT
DTSTART;VALUE=DATE:20240616
DTEND;VALUE=DATE:20240617
DTSTAMP:20260421T053603
CREATED:20240412T122750Z
LAST-MODIFIED:20240412T122750Z
UID:2261-1718496000-1718582399@guidesource.com
SUMMARY:Multi-pitch Rock Climbing
DESCRIPTION:
URL:https://guidesource.com/event/multi-pitch-rock-climbing-28/
END:VEVENT
BEGIN:VEVENT
DTSTART;VALUE=DATE:20240623
DTEND;VALUE=DATE:20240624
DTSTAMP:20260421T053603
CREATED:20240412T122714Z
LAST-MODIFIED:20240412T122714Z
UID:2259-1719100800-1719187199@guidesource.com
SUMMARY:Multi-pitch Rock Climbing
DESCRIPTION:
URL:https://guidesource.com/event/multi-pitch-rock-climbing-27/
END:VEVENT
BEGIN:VEVENT
DTSTART;VALUE=DATE:20240629
DTEND;VALUE=DATE:20240701
DTSTAMP:20260421T053603
CREATED:20240523T130655Z
LAST-MODIFIED:20240523T130655Z
UID:2283-1719619200-1719791999@guidesource.com
SUMMARY:Rock Climbing
DESCRIPTION:
URL:https://guidesource.com/event/rock-climbing-46/
END:VEVENT
END:VCALENDAR