BEGIN:VCALENDAR
VERSION:2.0
PRODID:-//MatterhornNepal-GuideSource - ECPv6.14.0//NONSGML v1.0//EN
CALSCALE:GREGORIAN
METHOD:PUBLISH
X-WR-CALNAME:MatterhornNepal-GuideSource
X-ORIGINAL-URL:https://guidesource.com
X-WR-CALDESC:Events for MatterhornNepal-GuideSource
REFRESH-INTERVAL;VALUE=DURATION:PT1H
X-Robots-Tag:noindex
X-PUBLISHED-TTL:PT1H
BEGIN:VTIMEZONE
TZID:Europe/Zurich
BEGIN:DAYLIGHT
TZOFFSETFROM:+0100
TZOFFSETTO:+0200
TZNAME:CEST
DTSTART:20260329T010000
END:DAYLIGHT
BEGIN:STANDARD
TZOFFSETFROM:+0200
TZOFFSETTO:+0100
TZNAME:CET
DTSTART:20261025T010000
END:STANDARD
END:VTIMEZONE
BEGIN:VEVENT
DTSTART;VALUE=DATE:20260228
DTEND;VALUE=DATE:20260302
DTSTAMP:20260419T160828
CREATED:20260203T120215Z
LAST-MODIFIED:20260203T120215Z
UID:2551-1772236800-1772409599@guidesource.com
SUMMARY:Avalanche Course 2-day
DESCRIPTION:
URL:https://guidesource.com/event/avalanche-course-2-day-2/
END:VEVENT
BEGIN:VEVENT
DTSTART;VALUE=DATE:20260307
DTEND;VALUE=DATE:20260309
DTSTAMP:20260419T160828
CREATED:20260219T142814Z
LAST-MODIFIED:20260219T142814Z
UID:2555-1772841600-1773014399@guidesource.com
SUMMARY:Avalanche Course 2-day
DESCRIPTION:
URL:https://guidesource.com/event/avalanche-course-2-day-3/
END:VEVENT
END:VCALENDAR